BEGIN:VCALENDAR
VERSION:2.0
PRODID:spatie/icalendar-generator
DESCRIPTION:Events from JGSLI
X-WR-CALDESC:Events from JGSLI
REFRESH-INTERVAL;VALUE=DURATION:PT1440M
X-PUBLISHED-TTL:PT1440M
BEGIN:VTIMEZONE
TZID:America/New_York
BEGIN:STANDARD
DTSTART:20241103T020000Z
TZOFFSETFROM:-0400
TZOFFSETTO:-0500
END:STANDARD
BEGIN:DAYLIGHT
DTSTART:20250309T020000Z
TZOFFSETFROM:-0500
TZOFFSETTO:-0400
END:DAYLIGHT
END:VTIMEZONE
BEGIN:VTIMEZONE
TZID:UTC
BEGIN:STANDARD
DTSTART:20250727T201601Z
TZOFFSETFROM:+0000
TZOFFSETTO:+0000
END:STANDARD
END:VTIMEZONE
BEGIN:VEVENT
UID:97-80
DTSTAMP:20260423T201601Z
SUMMARY:Names\, Dates\, Places\; Written in Stone: When Gravestones Lie by 
 Janette Silverman
LOCATION:
ORGANIZER;CN=JGS Long Island:MAILTO:webmaster@jgsli.org
DTSTART;TZID=America/New_York:20250226T190000
DTEND;TZID=America/New_York:20250226T210000
X-ALT-DESC;FMTTYPE=TEXT/HTML:<p>As genealogists\, we depend on gravestones 
 to give us at least basic information about a decedent: name\, for example
 \, and perhaps years of birth and death. What happens when the gravestone 
 doesn’t match other documents – how do you discover the facts? How do 
 you interact with a cemetery to find graves when the gravestone isn’t in
  their database?</p>\n
CATEGORIES:General
URL;VALUE=URI:https://jgsli.org/mc-events/names-dates-places-written-in-sto
 ne-when-gravestones-lie-by-janette-silverman/
METHOD:PUBLISH
END:VEVENT
END:VCALENDAR