BEGIN:VCALENDAR
VERSION:2.0
PRODID:spatie/icalendar-generator
DESCRIPTION:Events from JGSLI
X-WR-CALDESC:Events from JGSLI
REFRESH-INTERVAL;VALUE=DURATION:PT1440M
X-PUBLISHED-TTL:PT1440M
BEGIN:VTIMEZONE
TZID:America/New_York
BEGIN:STANDARD
DTSTART:20241103T020000Z
TZOFFSETFROM:-0400
TZOFFSETTO:-0500
END:STANDARD
BEGIN:DAYLIGHT
DTSTART:20250309T020000Z
TZOFFSETFROM:-0500
TZOFFSETTO:-0400
END:DAYLIGHT
BEGIN:STANDARD
DTSTART:20251102T020000Z
TZOFFSETFROM:-0400
TZOFFSETTO:-0500
END:STANDARD
END:VTIMEZONE
BEGIN:VTIMEZONE
TZID:UTC
BEGIN:STANDARD
DTSTART:20250727T182211Z
TZOFFSETFROM:+0000
TZOFFSETTO:+0000
END:STANDARD
END:VTIMEZONE
BEGIN:VEVENT
UID:96-79
DTSTAMP:20260423T182211Z
SUMMARY:Genealogy Records in Israel by Garri Regev
LOCATION:
ORGANIZER;CN=JGS Long Island:MAILTO:webmaster@jgsli.org
DTSTART;TZID=America/New_York:20250504T140000
DTEND;TZID=America/New_York:20250504T160000
X-ALT-DESC;FMTTYPE=TEXT/HTML:<p>IGRA is the main starting point for researc
 hing records of relatives in Israel. With over 3\,400\,000 records from te
 ns of archives IGRA has records from the Ottoman Empire\, British Administ
 ration and the State of Israel\; records documenting Israel/Palestine\, th
 e Mediterranean Basin\, references to Europe and more. Join me to learn mo
 re about navigating the IGRA website and unlocking information about your 
 family.</p>\n
CATEGORIES:General,  Virtual via Zoom
URL;VALUE=URI:https://jgsli.org/mc-events/genealogy-records-in-israel-by-ga
 rri-regev/
METHOD:PUBLISH
END:VEVENT
END:VCALENDAR