BEGIN:VCALENDAR
VERSION:2.0
PRODID:spatie/icalendar-generator
DESCRIPTION:Events from JGSLI
X-WR-CALDESC:Events from JGSLI
REFRESH-INTERVAL;VALUE=DURATION:PT1440M
X-PUBLISHED-TTL:PT1440M
BEGIN:VTIMEZONE
TZID:America/New_York
BEGIN:STANDARD
DTSTART:20241103T020000Z
TZOFFSETFROM:-0400
TZOFFSETTO:-0500
END:STANDARD
BEGIN:DAYLIGHT
DTSTART:20250309T020000Z
TZOFFSETFROM:-0500
TZOFFSETTO:-0400
END:DAYLIGHT
BEGIN:STANDARD
DTSTART:20251102T020000Z
TZOFFSETFROM:-0400
TZOFFSETTO:-0500
END:STANDARD
END:VTIMEZONE
BEGIN:VTIMEZONE
TZID:UTC
BEGIN:STANDARD
DTSTART:20250727T185949Z
TZOFFSETFROM:+0000
TZOFFSETTO:+0000
END:STANDARD
END:VTIMEZONE
BEGIN:VEVENT
UID:94-77
DTSTAMP:20260423T185949Z
SUMMARY:Kingston Upon Hull: A forgotten waystation on the road to North Ame
 rica by Marne Platt
LOCATION:
ORGANIZER;CN=JGS Long Island:MAILTO:webmaster@jgsli.org
DTSTART;TZID=America/New_York:20250608T140000
DTEND;TZID=America/New_York:20250608T160000
X-ALT-DESC;FMTTYPE=TEXT/HTML:<p>Between 1835 and 1914\, approximately 1 in 
 12 Europeans entering the US passed through the port city of Kingston-Upon
 -Hull\, UK. This phase of their journey has been largely forgotten. Learn 
 what role the city played in the migration of more than 2 million of our a
 ncestors\, what traces remain\, and where to find more information for you
 r own genealogy project.</p>\n
CATEGORIES:General
URL;VALUE=URI:https://jgsli.org/mc-events/kingston-upon-hull-a-forgotten-wa
 ystation-on-the-road-to-north-america-by-marne-platt/
METHOD:PUBLISH
END:VEVENT
END:VCALENDAR