BEGIN:VCALENDAR
VERSION:2.0
PRODID:spatie/icalendar-generator
DESCRIPTION:Events from JGSLI
X-WR-CALDESC:Events from JGSLI
REFRESH-INTERVAL;VALUE=DURATION:PT1440M
X-PUBLISHED-TTL:PT1440M
BEGIN:VTIMEZONE
TZID:America/New_York
BEGIN:STANDARD
DTSTART:20241103T020000Z
TZOFFSETFROM:-0400
TZOFFSETTO:-0500
END:STANDARD
BEGIN:DAYLIGHT
DTSTART:20250309T020000Z
TZOFFSETFROM:-0500
TZOFFSETTO:-0400
END:DAYLIGHT
BEGIN:STANDARD
DTSTART:20251102T020000Z
TZOFFSETFROM:-0400
TZOFFSETTO:-0500
END:STANDARD
END:VTIMEZONE
BEGIN:VTIMEZONE
TZID:UTC
BEGIN:STANDARD
DTSTART:20250727T182238Z
TZOFFSETFROM:+0000
TZOFFSETTO:+0000
END:STANDARD
END:VTIMEZONE
BEGIN:VEVENT
UID:93-76
DTSTAMP:20260423T182238Z
SUMMARY:Help! I got my Autosomal DNA results and I'm Confused (Part 3) by G
 il Bardige
LOCATION:
ORGANIZER;CN=JGS Long Island:MAILTO:webmaster@jgsli.org
DTSTART;TZID=America/New_York:20250528T190000
DTEND;TZID=America/New_York:20250528T210000
X-ALT-DESC;FMTTYPE=TEXT/HTML:<p>Did you get your autosomal DNA results? Do 
 you\, have tens thousands of matches that the testing companies tell you a
 re close relatives\, only to find that they don’t share a surname or tow
 n in common? Confused? Frustrated? You are not alone. So\, take a deep bre
 ath and join us in understanding your results of ethnicity and matches\; h
 ow to prioritize them and reduce the thousands of matches to numbers you c
 an research and maybe find keys to expanding your genealogy family tree. T
 his webinar is Part 3 of a series and is for beginners and others who are 
 just stuck or don’t know what to do next. Maybe you need a restart? Gil 
 will share the processes and techniques that he uses to prioritize matches
  to get organized and feel like you can accomplish something and know what
  to do next. In the end\, you will be able to say\, “Now I understand\, 
 I get it\, I know what to do\"</p>\n
CATEGORIES:General
URL;VALUE=URI:https://jgsli.org/mc-events/help-i-got-my-autosomal-dna-resul
 ts-and-im-confused-part-3-by-gil-bardige/
METHOD:PUBLISH
END:VEVENT
END:VCALENDAR