BEGIN:VCALENDAR
VERSION:2.0
PRODID:spatie/icalendar-generator
DESCRIPTION:Events from JGSLI
X-WR-CALDESC:Events from JGSLI
REFRESH-INTERVAL;VALUE=DURATION:PT1440M
X-PUBLISHED-TTL:PT1440M
BEGIN:VTIMEZONE
TZID:America/New_York
BEGIN:STANDARD
DTSTART:20241103T020000Z
TZOFFSETFROM:-0400
TZOFFSETTO:-0500
END:STANDARD
BEGIN:DAYLIGHT
DTSTART:20250309T020000Z
TZOFFSETFROM:-0500
TZOFFSETTO:-0400
END:DAYLIGHT
END:VTIMEZONE
BEGIN:VTIMEZONE
TZID:UTC
BEGIN:STANDARD
DTSTART:20250727T185513Z
TZOFFSETFROM:+0000
TZOFFSETTO:+0000
END:STANDARD
END:VTIMEZONE
BEGIN:VEVENT
UID:90-73
DTSTAMP:20260423T185513Z
SUMMARY:Arolsen Archives: History Exploration and Online Access by Serafina
  Volkovich
LOCATION:
ORGANIZER;CN=JGS Long Island:MAILTO:webmaster@jgsli.org
DTSTART;TZID=America/New_York:20250309T140000
DTEND;TZID=America/New_York:20250309T160000
X-ALT-DESC;FMTTYPE=TEXT/HTML:<p>Formerly known as the International Tracing
  Service\, the Arolsen Archives was established by the International Red C
 ross and Allied forces at the end of World War II to trace missing and dis
 placed people and help reunite survivors with their relatives. In this lec
 ture\, Dr. Serafima Velkovich will demystify the Arolsen Archives by descr
 ibing its history\, the types of files it holds\, and what information can
  be gleaned from those files. Additionally\, she will offer strategies for
  identifying relevant documents and key clues when searching its Online Ar
 chives and additional collections available at the Arolsen Archives and pa
 rtner institutions worldwide\, including Yad Vashem.</p>\n
CATEGORIES:General
URL;VALUE=URI:https://jgsli.org/mc-events/arolsen-archives-history-explorat
 ion-and-online-access-by-serafina-volkovich/
METHOD:PUBLISH
END:VEVENT
END:VCALENDAR