BEGIN:VCALENDAR
VERSION:2.0
PRODID:spatie/icalendar-generator
DESCRIPTION:Events from JGSLI
X-WR-CALDESC:Events from JGSLI
REFRESH-INTERVAL;VALUE=DURATION:PT1440M
X-PUBLISHED-TTL:PT1440M
BEGIN:VTIMEZONE
TZID:America/New_York
BEGIN:STANDARD
DTSTART:20211107T020000Z
TZOFFSETFROM:-0400
TZOFFSETTO:-0500
END:STANDARD
BEGIN:DAYLIGHT
DTSTART:20220313T020000Z
TZOFFSETFROM:-0500
TZOFFSETTO:-0400
END:DAYLIGHT
END:VTIMEZONE
BEGIN:VTIMEZONE
TZID:UTC
BEGIN:STANDARD
DTSTART:20250728T193822Z
TZOFFSETFROM:+0000
TZOFFSETTO:+0000
END:STANDARD
END:VTIMEZONE
BEGIN:VEVENT
UID:9-6
DTSTAMP:20260424T193822Z
SUMMARY:2PM - Getting Ready for the 1950 Census: Searching with and without
  a Name Index by Steve Morse
LOCATION:
ORGANIZER;CN=JGS Long Island:MAILTO:webmaster@jgsli.org
DTSTART;TZID=America/New_York:20220327T140000
DTEND;TZID=America/New_York:20220327T150000
X-ALT-DESC;FMTTYPE=TEXT/HTML:<p>When the 1950 census will be released in Ap
 ril 2022\, it will not have a name index. So finding people in the census 
 will involve searching by location instead. Even when a name index becomes
  available\, there will still be many reasons for doing locational searche
 s.  The census is organized by Enumeration Districts (EDs)\, so the locati
 on needs to be converted to an ED before the census can be accessed. The O
 ne-Step website contains numerous tools for obtaining EDs. This talk will 
 present the various tools and show circumstances in which each can be used
 .</p>\n
CATEGORIES:General
URL;VALUE=URI:https://jgsli.org/mc-events/2pm-getting-ready-for-the-1950-ce
 nsus-searching-with-and-without-a-name-index-by-steve-morse/
METHOD:PUBLISH
END:VEVENT
END:VCALENDAR