BEGIN:VCALENDAR
VERSION:2.0
PRODID:spatie/icalendar-generator
DESCRIPTION:Events from JGSLI
X-WR-CALDESC:Events from JGSLI
REFRESH-INTERVAL;VALUE=DURATION:PT1440M
X-PUBLISHED-TTL:PT1440M
BEGIN:VTIMEZONE
TZID:America/New_York
BEGIN:DAYLIGHT
DTSTART:20240310T020000Z
TZOFFSETFROM:-0500
TZOFFSETTO:-0400
END:DAYLIGHT
BEGIN:STANDARD
DTSTART:20241103T020000Z
TZOFFSETFROM:-0400
TZOFFSETTO:-0500
END:STANDARD
END:VTIMEZONE
BEGIN:VTIMEZONE
TZID:UTC
BEGIN:STANDARD
DTSTART:20250727T215858Z
TZOFFSETFROM:+0000
TZOFFSETTO:+0000
END:STANDARD
END:VTIMEZONE
BEGIN:VEVENT
UID:85-61
DTSTAMP:20260423T215858Z
SUMMARY:No Meeting in August
LOCATION:
ORGANIZER;CN=JGS Long Island:MAILTO:webmaster@jgsli.org
DTSTART;TZID=America/New_York;VALUE=DATE:20240819
DTEND;TZID=America/New_York;VALUE=DATE:20240820
X-ALT-DESC;FMTTYPE=TEXT/HTML:<p>JGSLI will not have a meeting in August. We
  hope to see you at the IAJGS Jewish Genealogy Conference in Philadelphia\
 , August 18th - 22nd.</p>\n
CATEGORIES:General
URL;VALUE=URI:https://jgsli.org/mc-events/no-meeting-in-august/
METHOD:PUBLISH
END:VEVENT
END:VCALENDAR