BEGIN:VCALENDAR
VERSION:2.0
PRODID:spatie/icalendar-generator
DESCRIPTION:Events from JGSLI
X-WR-CALDESC:Events from JGSLI
REFRESH-INTERVAL;VALUE=DURATION:PT1440M
X-PUBLISHED-TTL:PT1440M
BEGIN:VTIMEZONE
TZID:America/New_York
BEGIN:DAYLIGHT
DTSTART:20240310T020000Z
TZOFFSETFROM:-0500
TZOFFSETTO:-0400
END:DAYLIGHT
BEGIN:STANDARD
DTSTART:20241103T020000Z
TZOFFSETFROM:-0400
TZOFFSETTO:-0500
END:STANDARD
BEGIN:DAYLIGHT
DTSTART:20250309T020000Z
TZOFFSETFROM:-0500
TZOFFSETTO:-0400
END:DAYLIGHT
END:VTIMEZONE
BEGIN:VTIMEZONE
TZID:UTC
BEGIN:STANDARD
DTSTART:20250727T213114Z
TZOFFSETFROM:+0000
TZOFFSETTO:+0000
END:STANDARD
END:VTIMEZONE
BEGIN:VEVENT
UID:82-67
DTSTAMP:20260423T213114Z
SUMMARY:The Krakovsky Documents / Tricks for Finding Your Family by Gary Po
 krassa / George Richard
LOCATION:Mid-Island Y JCC 45 Manetto Hill Rd  Plainview NY 11803
ORGANIZER;CN=JGS Long Island:MAILTO:webmaster@jgsli.org
DTSTART;TZID=America/New_York:20241124T140000
DTEND;TZID=America/New_York:20241124T160000
X-ALT-DESC;FMTTYPE=TEXT/HTML:<p>Split session featuring two talks.  Talk 1:
   Gary Pokrassa will discuss the origin and method of Alex Krakovsky’s d
 ata acquisition\, and then give an overview of the contents of his site an
 d archive wiki pages along with the efforts of the Ukraine Research Divisi
 on of JewishGen to make these records accessible to all researchers<br />\
 nTalk 2:  George Richard will demonstrate his tricks to finding people and
  building a family tree of over 9700 people.  George will offer practical 
 suggestions on how you can find more members of your family.</p>\n
CATEGORIES:General
URL;VALUE=URI:https://jgsli.org/mc-events/the-krakovsky-documents-tricks-fo
 r-finding-your-family-by-gary-pokrassa-george-richard/
METHOD:PUBLISH
END:VEVENT
END:VCALENDAR