BEGIN:VCALENDAR
VERSION:2.0
PRODID:spatie/icalendar-generator
DESCRIPTION:Events from JGSLI
X-WR-CALDESC:Events from JGSLI
REFRESH-INTERVAL;VALUE=DURATION:PT1440M
X-PUBLISHED-TTL:PT1440M
BEGIN:VTIMEZONE
TZID:America/New_York
BEGIN:DAYLIGHT
DTSTART:20240310T020000Z
TZOFFSETFROM:-0500
TZOFFSETTO:-0400
END:DAYLIGHT
BEGIN:STANDARD
DTSTART:20241103T020000Z
TZOFFSETFROM:-0400
TZOFFSETTO:-0500
END:STANDARD
BEGIN:DAYLIGHT
DTSTART:20250309T020000Z
TZOFFSETFROM:-0500
TZOFFSETTO:-0400
END:DAYLIGHT
END:VTIMEZONE
BEGIN:VTIMEZONE
TZID:UTC
BEGIN:STANDARD
DTSTART:20250727T221655Z
TZOFFSETFROM:+0000
TZOFFSETTO:+0000
END:STANDARD
END:VTIMEZONE
BEGIN:VEVENT
UID:79-64
DTSTAMP:20260423T221655Z
SUMMARY:Help! I got my DNA Results and I’m Confused! (2024 Update - Part 
 II)
LOCATION:
ORGANIZER;CN=JGS Long Island:MAILTO:webmaster@jgsli.org
DTSTART;TZID=America/New_York:20241001T190000
DTEND;TZID=America/New_York:20241001T210000
X-ALT-DESC;FMTTYPE=TEXT/HTML:<p>Did you get your autosomal DNA results from
  any or all of the 4 testing companies? Do you\, have tens of thousands of
  matches that they tell you are close relatives\, only to find that they d
 on’t share a surname or town in common? Confused? Frustrated? You are no
 t alone. So\, take a deep breath and join us in understanding your results
  of ethnicity and matches\; how to prioritize them\, and reduce the thousa
 nds of matches to numbers you can research and find keys to expanding your
  genealogy family tree. This webinar is for beginners and others who are j
 ust stuck or don’t know what to do next. Maybe you need a restart? Gil w
 ill share his 2024 updated processes and techniques to prioritize matches 
 to get organized and feel like you can accomplish something and know what 
 to do next. In the end\, you will be able to say\, Now I understand\, I ge
 t it\, I know what to do.</p>\n
CATEGORIES:General
URL;VALUE=URI:https://jgsli.org/mc-events/help-i-got-my-dna-results-and-im-
 confused-2024-update-part-ii/
METHOD:PUBLISH
END:VEVENT
END:VCALENDAR