BEGIN:VCALENDAR
VERSION:2.0
PRODID:spatie/icalendar-generator
DESCRIPTION:Events from JGSLI
X-WR-CALDESC:Events from JGSLI
REFRESH-INTERVAL;VALUE=DURATION:PT1440M
X-PUBLISHED-TTL:PT1440M
BEGIN:VTIMEZONE
TZID:America/New_York
BEGIN:STANDARD
DTSTART:20231105T020000Z
TZOFFSETFROM:-0400
TZOFFSETTO:-0500
END:STANDARD
BEGIN:DAYLIGHT
DTSTART:20240310T020000Z
TZOFFSETFROM:-0500
TZOFFSETTO:-0400
END:DAYLIGHT
END:VTIMEZONE
BEGIN:VTIMEZONE
TZID:UTC
BEGIN:STANDARD
DTSTART:20250727T222227Z
TZOFFSETFROM:+0000
TZOFFSETTO:+0000
END:STANDARD
END:VTIMEZONE
BEGIN:VEVENT
UID:70-56
DTSTAMP:20260423T222227Z
SUMMARY:7PM: Ships of Our Ancestors by Hal Bookbinder
LOCATION:
ORGANIZER;CN=JGS Long Island:MAILTO:webmaster@jgsli.org
DTSTART;TZID=America/New_York:20240501T190000
DTEND;TZID=America/New_York:20240501T210000
X-ALT-DESC;FMTTYPE=TEXT/HTML:<p>Ships of Our Ancestors. During the active y
 ears of Ellis Island\, 83\,000 ship arrivals were recorded. Between 1880 a
 nd 1914 about two million Jewish immigrants arrived from Europe\, with mos
 t passing through Ellis Island. Until the age of flight\, immigrants arriv
 ed by sea\, first on sailing ships and after the middle of the 19th Centur
 y\, on steamships. This presentation focuses on the ships on which our anc
 estors traveled\, discussing the shift from sail to steam and the governme
 ntal regulations which made ship travel safer and more humane. It will add
 ress the experience of our ancestors in getting to the port of embarkation
 \, being processed for passage\, and their shipboard experience\, as well 
 as the cost and duration of the voyage. Finally\, it will address several 
 stubborn myths related to our ancestors' immigration.</p>\n
CATEGORIES:General
URL;VALUE=URI:https://jgsli.org/mc-events/7pm-ships-of-our-ancestors-by-hal
 -bookbinder/
METHOD:PUBLISH
END:VEVENT
END:VCALENDAR