BEGIN:VCALENDAR
VERSION:2.0
PRODID:spatie/icalendar-generator
DESCRIPTION:Events from JGSLI
X-WR-CALDESC:Events from JGSLI
REFRESH-INTERVAL;VALUE=DURATION:PT1440M
X-PUBLISHED-TTL:PT1440M
BEGIN:VTIMEZONE
TZID:America/New_York
BEGIN:STANDARD
DTSTART:20231105T020000Z
TZOFFSETFROM:-0400
TZOFFSETTO:-0500
END:STANDARD
BEGIN:DAYLIGHT
DTSTART:20240310T020000Z
TZOFFSETFROM:-0500
TZOFFSETTO:-0400
END:DAYLIGHT
END:VTIMEZONE
BEGIN:VTIMEZONE
TZID:UTC
BEGIN:STANDARD
DTSTART:20250728T024044Z
TZOFFSETFROM:+0000
TZOFFSETTO:+0000
END:STANDARD
END:VTIMEZONE
BEGIN:VEVENT
UID:62-48
DTSTAMP:20260424T024044Z
SUMMARY:7PM: Getting the Most Out of Your Ukrainian Genealogy in 2024 by Ve
 ra Miller
LOCATION:
ORGANIZER;CN=JGS Long Island:MAILTO:webmaster@jgsli.org
DTSTART;TZID=America/New_York:20240103T190000
DTEND;TZID=America/New_York:20240103T210000
X-ALT-DESC;FMTTYPE=TEXT/HTML:<p>FamilySearch has been digitizing Ukrainian 
 archive records\, opening the door to new possibilities in Ukrainian genea
 logy. Archives were slow to post records online until FamilySearch returne
 d for its project in 2022. Vera Ivanova Miller will detail the free record
 s and databases being posted online by FamilySearch\, archives\, organizat
 ions and activists and the tools\, including Google Translate\, that help 
 make Ukrainian genealogy an easier experience for those unfamiliar with Uk
 rainian.</p>\n
CATEGORIES:Virtual via Zoom
URL;VALUE=URI:https://jgsli.org/mc-events/7pm-getting-the-most-out-of-your-
 ukrainian-genealogy-in-2024-by-vera-miller/
METHOD:PUBLISH
END:VEVENT
END:VCALENDAR