BEGIN:VCALENDAR
VERSION:2.0
PRODID:spatie/icalendar-generator
DESCRIPTION:Events from JGSLI
X-WR-CALDESC:Events from JGSLI
REFRESH-INTERVAL;VALUE=DURATION:PT1440M
X-PUBLISHED-TTL:PT1440M
BEGIN:VTIMEZONE
TZID:America/New_York
BEGIN:STANDARD
DTSTART:20231105T020000Z
TZOFFSETFROM:-0400
TZOFFSETTO:-0500
END:STANDARD
BEGIN:DAYLIGHT
DTSTART:20240310T020000Z
TZOFFSETFROM:-0500
TZOFFSETTO:-0400
END:DAYLIGHT
END:VTIMEZONE
BEGIN:VTIMEZONE
TZID:UTC
BEGIN:STANDARD
DTSTART:20250728T011645Z
TZOFFSETFROM:+0000
TZOFFSETTO:+0000
END:STANDARD
END:VTIMEZONE
BEGIN:VEVENT
UID:61-47
DTSTAMP:20260424T011645Z
SUMMARY:2 PM: Hands On Research Workshop (In Person &amp;amp\; Virtual)
LOCATION:
ORGANIZER;CN=JGS Long Island:MAILTO:webmaster@jgsli.org
DTSTART;TZID=America/New_York:20231217T140000
DTEND;TZID=America/New_York:20231217T160000
X-ALT-DESC;FMTTYPE=TEXT/HTML:<p>JGSLI Annual Meeting - at the Mid-Island Y 
 and via Zoom (Members Only)<br />\nThe meeting will feature two hours of H
 ANDS-ON RESEARCH with many of JGSLI’s Mishpocha Mavens available – in
  person and online – to answer your research questions.</p>\n<p>Members 
 who attend in person will also enjoy a short Hanukkah celebration with pot
 ato latkes and sufganiyot (jelly doughnuts). (Sorry\, remote participants 
 will have to provide their own Hanukkah noshes.)</p>\n
CATEGORIES:General
URL;VALUE=URI:https://jgsli.org/mc-events/2-pm-hands-on-research-workshop-i
 n-person-virtual/
METHOD:PUBLISH
END:VEVENT
END:VCALENDAR