BEGIN:VCALENDAR
VERSION:2.0
PRODID:spatie/icalendar-generator
DESCRIPTION:Events from JGSLI
X-WR-CALDESC:Events from JGSLI
REFRESH-INTERVAL;VALUE=DURATION:PT1440M
X-PUBLISHED-TTL:PT1440M
BEGIN:VTIMEZONE
TZID:America/New_York
BEGIN:DAYLIGHT
DTSTART:20230312T020000Z
TZOFFSETFROM:-0500
TZOFFSETTO:-0400
END:DAYLIGHT
BEGIN:STANDARD
DTSTART:20231105T020000Z
TZOFFSETFROM:-0400
TZOFFSETTO:-0500
END:STANDARD
BEGIN:DAYLIGHT
DTSTART:20240310T020000Z
TZOFFSETFROM:-0500
TZOFFSETTO:-0400
END:DAYLIGHT
END:VTIMEZONE
BEGIN:VTIMEZONE
TZID:UTC
BEGIN:STANDARD
DTSTART:20250728T031637Z
TZOFFSETFROM:+0000
TZOFFSETTO:+0000
END:STANDARD
END:VTIMEZONE
BEGIN:VEVENT
UID:56-43
DTSTAMP:20260424T031637Z
SUMMARY:Docent-Guided Tour of the Holocaust Memorial and Tolerance Center
LOCATION:
ORGANIZER;CN=JGS Long Island:MAILTO:webmaster@jgsli.org
DTSTART;TZID=America/New_York:20231015T140000
DTEND;TZID=America/New_York:20231015T151500
X-ALT-DESC;FMTTYPE=TEXT/HTML:<p>Event Open to JGSLI Members and their immed
 iate families.<br />\nTour from 2 PM to 3:15 PM\, the center is open until
  4 PM.<br />\nAdmission is $10 for adults and $5 for seniors and students\
 , and must be paid to JGSLI by October 5th.<br />\nMembers should check th
 e e-mail sent on 9/15 for additional details.</p>\n
CATEGORIES:General
URL;VALUE=URI:https://jgsli.org/mc-events/docent-guided-tour-of-the-holocau
 st-memorial-and-tolerance-center/
METHOD:PUBLISH
END:VEVENT
END:VCALENDAR