BEGIN:VCALENDAR
VERSION:2.0
PRODID:spatie/icalendar-generator
DESCRIPTION:Events from JGSLI
X-WR-CALDESC:Events from JGSLI
REFRESH-INTERVAL;VALUE=DURATION:PT1440M
X-PUBLISHED-TTL:PT1440M
BEGIN:VTIMEZONE
TZID:America/New_York
BEGIN:STANDARD
DTSTART:20221106T020000Z
TZOFFSETFROM:-0400
TZOFFSETTO:-0500
END:STANDARD
BEGIN:DAYLIGHT
DTSTART:20230312T020000Z
TZOFFSETFROM:-0500
TZOFFSETTO:-0400
END:DAYLIGHT
BEGIN:STANDARD
DTSTART:20231105T020000Z
TZOFFSETFROM:-0400
TZOFFSETTO:-0500
END:STANDARD
END:VTIMEZONE
BEGIN:VTIMEZONE
TZID:UTC
BEGIN:STANDARD
DTSTART:20250728T041757Z
TZOFFSETFROM:+0000
TZOFFSETTO:+0000
END:STANDARD
END:VTIMEZONE
BEGIN:VEVENT
UID:44-33
DTSTAMP:20260424T041757Z
SUMMARY:2PM: The Industrial Removal Office: How a Little-known Program Scat
 tered Jews Throughout the United States by Risa Daitzman Heywood
LOCATION:
ORGANIZER;CN=JGS Long Island:MAILTO:webmaster@jgsli.org
DTSTART;TZID=America/New_York:20230521T140000
DTEND;TZID=America/New_York:20230521T160000
X-ALT-DESC;FMTTYPE=TEXT/HTML:<p>The Industrial Removal Office - How a littl
 e-known program scattered Jews throughout the United States. The Industria
 l Removal Office\, a little-known organization in operation from 1900 to 1
 922\, was created to help alleviate overcrowding in the Jewish areas of Ne
 w York City. Its agents scoured the U.S. for businesses that needed skille
 d workers and matched them with immigrants in need of a job. After accepti
 ng the job offer\, the immigrant would receive a one-way ticket to their n
 ew city. Learn how to search this organization’s records and they may he
 lp you solve the family mystery of why your family ended up in Cheyenne\, 
 Chattanooga or some other unexpected place across the United States.</p>\n
CATEGORIES:Virtual via Zoom
URL;VALUE=URI:https://jgsli.org/mc-events/2pm-the-industrial-removal-office
 -how-a-little-known-program-scattered-jews-throughout-the-united-states-by
 -risa-daitzman-heywood/
METHOD:PUBLISH
END:VEVENT
END:VCALENDAR