BEGIN:VCALENDAR
VERSION:2.0
PRODID:spatie/icalendar-generator
DESCRIPTION:Events from JGSLI
X-WR-CALDESC:Events from JGSLI
REFRESH-INTERVAL;VALUE=DURATION:PT1440M
X-PUBLISHED-TTL:PT1440M
BEGIN:VTIMEZONE
TZID:America/New_York
BEGIN:STANDARD
DTSTART:20211107T020000Z
TZOFFSETFROM:-0400
TZOFFSETTO:-0500
END:STANDARD
BEGIN:DAYLIGHT
DTSTART:20220313T020000Z
TZOFFSETFROM:-0500
TZOFFSETTO:-0400
END:DAYLIGHT
END:VTIMEZONE
BEGIN:VTIMEZONE
TZID:UTC
BEGIN:STANDARD
DTSTART:20250728T161502Z
TZOFFSETFROM:+0000
TZOFFSETTO:+0000
END:STANDARD
END:VTIMEZONE
BEGIN:VEVENT
UID:4-3
DTSTAMP:20260424T161502Z
SUMMARY:2PM - Meet Me At the Corner of Broome and Allen: Romaniote Jews in 
 New York by Marcia Ikonomopoulos
LOCATION:Mid-Island Y JCC 45 Manetto Hill Rd  Plainview NY 11803
ORGANIZER;CN=JGS Long Island:MAILTO:webmaster@jgsli.org
DTSTART;TZID=America/New_York:20220130T140000
DTEND;TZID=America/New_York:20220130T160000
X-ALT-DESC;FMTTYPE=TEXT/HTML:<p>Virtual - Jewish communities are often dist
 inguished based on geographical location\, ancestral language\, and levels
  of observance. One of these groups are the Romaniote Jews -- Greek- speak
 ing Jews who date their ancestry back to the inter-Temple period. Although
  they have the longest continuous presence in the European Diaspora\, Roma
 niote Jews are in many ways the orphan children of Jewish studies. Marcia 
 Ikonomopoulos will tell us about the distinctive customs of this unique gr
 oup -- including their naming practices\, which shed light on the history 
 of Jewish surnames.</p>\n
CATEGORIES:Virtual via Zoom
URL;VALUE=URI:https://jgsli.org/mc-events/2pm-meet-me-at-the-corner-of-broo
 me-and-allen-romaniote-jews-in-new-york-by-marcia-ikonomopoulos/
METHOD:PUBLISH
END:VEVENT
END:VCALENDAR