BEGIN:VCALENDAR
VERSION:2.0
PRODID:spatie/icalendar-generator
DESCRIPTION:Events from JGSLI
X-WR-CALDESC:Events from JGSLI
REFRESH-INTERVAL;VALUE=DURATION:PT1440M
X-PUBLISHED-TTL:PT1440M
BEGIN:VTIMEZONE
TZID:America/New_York
BEGIN:STANDARD
DTSTART:20221106T020000Z
TZOFFSETFROM:-0400
TZOFFSETTO:-0500
END:STANDARD
BEGIN:DAYLIGHT
DTSTART:20230312T020000Z
TZOFFSETFROM:-0500
TZOFFSETTO:-0400
END:DAYLIGHT
END:VTIMEZONE
BEGIN:VTIMEZONE
TZID:UTC
BEGIN:STANDARD
DTSTART:20250728T041931Z
TZOFFSETFROM:+0000
TZOFFSETTO:+0000
END:STANDARD
END:VTIMEZONE
BEGIN:VEVENT
UID:37-31
DTSTAMP:20260424T041931Z
SUMMARY:2PM - Finding Relatives in Russian Empire Records for non-Russian S
 peakers by Lara Diamond
LOCATION:Mid-Island Y JCC 45 Manetto Hill Rd  Plainview NY 11803
ORGANIZER;CN=JGS Long Island:MAILTO:webmaster@jgsli.org
DTSTART;TZID=America/New_York:20230430T140000
DTEND;TZID=America/New_York:20230430T160000
X-ALT-DESC;FMTTYPE=TEXT/HTML:<p>Lara leverages her mathematics background a
 nd her endogamous Ashkenazic genome to augment document-based research wit
 h genetic genealogy and teaches how others can have successes in genetic g
 enealogy in endogamous situations.  She is president of the Jewish Genealo
 gy Society of Maryland\, leads JewishGen's Subcarpathian SIG\, and is on J
 ewishGen's Ukraine SIG's board of directors. She has lectured around the c
 ountry and internationally on Jewish and Eastern European genealogy resear
 ch as well as genetic genealogy. She also runs multiple district- and town
 -focused projects to collect documentation to assist all those researching
  ancestors from common towns. Lara blogs about DNA and her Eastern Europea
 n research at her blog.</p>\n
CATEGORIES:Hybrid
URL;VALUE=URI:https://jgsli.org/mc-events/2pm-finding-relatives-in-russian-
 empire-records-for-non-russian-speakers-by-lara-diamond/
METHOD:PUBLISH
END:VEVENT
END:VCALENDAR