BEGIN:VCALENDAR
VERSION:2.0
PRODID:spatie/icalendar-generator
DESCRIPTION:Events from JGSLI
X-WR-CALDESC:Events from JGSLI
REFRESH-INTERVAL;VALUE=DURATION:PT1440M
X-PUBLISHED-TTL:PT1440M
BEGIN:VTIMEZONE
TZID:America/New_York
BEGIN:STANDARD
DTSTART:20221106T020000Z
TZOFFSETFROM:-0400
TZOFFSETTO:-0500
END:STANDARD
BEGIN:DAYLIGHT
DTSTART:20230312T020000Z
TZOFFSETFROM:-0500
TZOFFSETTO:-0400
END:DAYLIGHT
END:VTIMEZONE
BEGIN:VTIMEZONE
TZID:UTC
BEGIN:STANDARD
DTSTART:20250728T063331Z
TZOFFSETFROM:+0000
TZOFFSETTO:+0000
END:STANDARD
END:VTIMEZONE
BEGIN:VEVENT
UID:35-29
DTSTAMP:20260424T063331Z
SUMMARY:2PM: Jewish History of the Town of Islip by Mollie Sebor
LOCATION:Mid-Island Y JCC 45 Manetto Hill Rd  Plainview NY 11803
ORGANIZER;CN=JGS Long Island:MAILTO:webmaster@jgsli.org
DTSTART;TZID=America/New_York:20230319T140000
DTEND;TZID=America/New_York:20230319T160000
X-ALT-DESC;FMTTYPE=TEXT/HTML:<p>Long Island has a rich Jewish Culture\, and
  no more than in Islip Town itself. From decorated military veterans\, to 
 business owners and entrepreneurs\, even an author who disappeared\, there
  are many stories to be told about the small town nicknamed\, “The Land 
 of Misfits.” Join us as we journey through Islip’s history from the ve
 ry beginning through the present day\, shining a light on some of the “m
 isfits” who have gone unseen.</p>\n
CATEGORIES:Hybrid
URL;VALUE=URI:https://jgsli.org/mc-events/2pm-jewish-history-of-the-town-of
 -islip-by-mollie-sebor/
METHOD:PUBLISH
END:VEVENT
END:VCALENDAR