BEGIN:VCALENDAR
VERSION:2.0
PRODID:spatie/icalendar-generator
DESCRIPTION:Events from JGSLI
X-WR-CALDESC:Events from JGSLI
REFRESH-INTERVAL;VALUE=DURATION:PT1440M
X-PUBLISHED-TTL:PT1440M
BEGIN:VTIMEZONE
TZID:America/New_York
BEGIN:STANDARD
DTSTART:20221106T020000Z
TZOFFSETFROM:-0400
TZOFFSETTO:-0500
END:STANDARD
BEGIN:DAYLIGHT
DTSTART:20230312T020000Z
TZOFFSETFROM:-0500
TZOFFSETTO:-0400
END:DAYLIGHT
END:VTIMEZONE
BEGIN:VTIMEZONE
TZID:UTC
BEGIN:STANDARD
DTSTART:20250728T055611Z
TZOFFSETFROM:+0000
TZOFFSETTO:+0000
END:STANDARD
END:VTIMEZONE
BEGIN:VEVENT
UID:34-28
DTSTAMP:20260424T055611Z
SUMMARY:7PM: Working with JRI-Poland's New Website by Robinn Magid
LOCATION:
ORGANIZER;CN=JGS Long Island:MAILTO:webmaster@jgsli.org
DTSTART;TZID=America/New_York:20230315T190000
DTEND;TZID=America/New_York:20230315T210000
X-ALT-DESC;FMTTYPE=TEXT/HTML:<p>In April 2022\, JRI-Poland converted over t
 o a brand new\, state-of-the-art website with a new look and feel. As the 
 year has progressed\, we have introduced bold new features that greatly en
 hance the user experience - meaning that using our new website offers terr
 ific advantages for the user who learns how to use it. Come along for a 40
  minute tour of the JRI-Poland website replete with tips and hints for how
  to get right to what you want to know. This presentation will include a q
 uestions-and-answer session.</p>\n
CATEGORIES:General
URL;VALUE=URI:https://jgsli.org/mc-events/7pm-working-with-jri-polands-new-
 website-by-robinn-magid/
METHOD:PUBLISH
END:VEVENT
END:VCALENDAR