BEGIN:VCALENDAR
VERSION:2.0
PRODID:spatie/icalendar-generator
DESCRIPTION:Events from JGSLI
X-WR-CALDESC:Events from JGSLI
REFRESH-INTERVAL;VALUE=DURATION:PT1440M
X-PUBLISHED-TTL:PT1440M
BEGIN:VTIMEZONE
TZID:America/New_York
BEGIN:STANDARD
DTSTART:20221106T020000Z
TZOFFSETFROM:-0400
TZOFFSETTO:-0500
END:STANDARD
BEGIN:DAYLIGHT
DTSTART:20230312T020000Z
TZOFFSETFROM:-0500
TZOFFSETTO:-0400
END:DAYLIGHT
END:VTIMEZONE
BEGIN:VTIMEZONE
TZID:UTC
BEGIN:STANDARD
DTSTART:20250728T041829Z
TZOFFSETFROM:+0000
TZOFFSETTO:+0000
END:STANDARD
END:VTIMEZONE
BEGIN:VEVENT
UID:33-27
DTSTAMP:20260424T041829Z
SUMMARY:2PM: The Jews of Long Island 1705-1918 by Brad Kolodny
LOCATION:
ORGANIZER;CN=JGS Long Island:MAILTO:webmaster@jgsli.org
DTSTART;TZID=America/New_York:20230226T140000
DTEND;TZID=America/New_York:20230226T160000
X-ALT-DESC;FMTTYPE=TEXT/HTML:<p>The Jews of Long Island 1705-1918 tells the
  story of how Jewish communities were established and developed east of Ne
 w York City\, from Great Neck to Greenport and Cedarhurst to Sag Harbor. A
 rchival material including census records\, newspaper accounts\, never-bef
 ore-published photos\, and personal family histories illuminate Jewish lif
 e and experiences during these formative years. Come learn about the fasci
 nating history of those who laid the foundation for what has become the fo
 urth largest Jewish community in the United States today.</p>\n
CATEGORIES:In Person,  Virtual via Zoom
URL;VALUE=URI:https://jgsli.org/mc-events/2pm-the-jews-of-long-island-1705-
 1918-by-brad-kolodny/
METHOD:PUBLISH
END:VEVENT
END:VCALENDAR