BEGIN:VCALENDAR
VERSION:2.0
PRODID:spatie/icalendar-generator
DESCRIPTION:Events from JGSLI
X-WR-CALDESC:Events from JGSLI
REFRESH-INTERVAL;VALUE=DURATION:PT1440M
X-PUBLISHED-TTL:PT1440M
BEGIN:VTIMEZONE
TZID:America/New_York
BEGIN:STANDARD
DTSTART:20221106T020000Z
TZOFFSETFROM:-0400
TZOFFSETTO:-0500
END:STANDARD
BEGIN:DAYLIGHT
DTSTART:20230312T020000Z
TZOFFSETFROM:-0500
TZOFFSETTO:-0400
END:DAYLIGHT
END:VTIMEZONE
BEGIN:VTIMEZONE
TZID:UTC
BEGIN:STANDARD
DTSTART:20250728T090411Z
TZOFFSETFROM:+0000
TZOFFSETTO:+0000
END:STANDARD
END:VTIMEZONE
BEGIN:VEVENT
UID:28-22
DTSTAMP:20260424T090411Z
SUMMARY:2PM: Breakout Sessions - New Online Sources You Need to Know
LOCATION:
ORGANIZER;CN=JGS Long Island:MAILTO:webmaster@jgsli.org
DTSTART;TZID=America/New_York:20221211T140000
DTEND;TZID=America/New_York:20221211T160000
X-ALT-DESC;FMTTYPE=TEXT/HTML:<p>JGSLI's annual meeting\, members only for t
 he first 15 minutes to allow for the board election vote. Starting at 2:15
  we will have 4 breakout sessions: Historical NYC Vital Records\,\, the 19
 50 US Census\, WebSurrogate (NY State probate records) and Latest Developm
 ents in DNA.</p>\n
CATEGORIES:General
URL;VALUE=URI:https://jgsli.org/mc-events/2pm-breakout-sessions-new-online-
 sources-you-need-to-know/
METHOD:PUBLISH
END:VEVENT
END:VCALENDAR