BEGIN:VCALENDAR
VERSION:2.0
PRODID:spatie/icalendar-generator
DESCRIPTION:Events from JGSLI
X-WR-CALDESC:Events from JGSLI
REFRESH-INTERVAL;VALUE=DURATION:PT1440M
X-PUBLISHED-TTL:PT1440M
BEGIN:VTIMEZONE
TZID:America/New_York
BEGIN:DAYLIGHT
DTSTART:20220313T020000Z
TZOFFSETFROM:-0500
TZOFFSETTO:-0400
END:DAYLIGHT
BEGIN:STANDARD
DTSTART:20221106T020000Z
TZOFFSETFROM:-0400
TZOFFSETTO:-0500
END:STANDARD
BEGIN:DAYLIGHT
DTSTART:20230312T020000Z
TZOFFSETFROM:-0500
TZOFFSETTO:-0400
END:DAYLIGHT
END:VTIMEZONE
BEGIN:VTIMEZONE
TZID:UTC
BEGIN:STANDARD
DTSTART:20250728T085538Z
TZOFFSETFROM:+0000
TZOFFSETTO:+0000
END:STANDARD
END:VTIMEZONE
BEGIN:VEVENT
UID:27-20
DTSTAMP:20260424T085538Z
SUMMARY:7PM: Why did Your Family Come to America (and What Did They Find Wh
 en They Got Here?) By Chuck Weinstein
LOCATION:
ORGANIZER;CN=JGS Long Island:MAILTO:webmaster@jgsli.org
DTSTART;TZID=America/New_York:20221109T190000
DTEND;TZID=America/New_York:20221109T200000
X-ALT-DESC;FMTTYPE=TEXT/HTML:<p>Chuck Weinstein will discuss some of the re
 asons our ancestors left eastern Europe\, the ports they used\, and what t
 hey found in America upon arrival\, focusing on the Great Migration years 
 prior to World War I.</p>\n
CATEGORIES:Virtual via Zoom
URL;VALUE=URI:https://jgsli.org/mc-events/7pm-why-did-your-family-come-to-a
 merica-and-what-did-they-find-when-they-got-here-by-chuck-weinstein/
METHOD:PUBLISH
END:VEVENT
END:VCALENDAR