BEGIN:VCALENDAR
VERSION:2.0
PRODID:spatie/icalendar-generator
DESCRIPTION:Events from JGSLI
X-WR-CALDESC:Events from JGSLI
REFRESH-INTERVAL;VALUE=DURATION:PT1440M
X-PUBLISHED-TTL:PT1440M
BEGIN:VTIMEZONE
TZID:America/New_York
BEGIN:DAYLIGHT
DTSTART:20220313T020000Z
TZOFFSETFROM:-0500
TZOFFSETTO:-0400
END:DAYLIGHT
BEGIN:STANDARD
DTSTART:20221106T020000Z
TZOFFSETFROM:-0400
TZOFFSETTO:-0500
END:STANDARD
BEGIN:DAYLIGHT
DTSTART:20230312T020000Z
TZOFFSETFROM:-0500
TZOFFSETTO:-0400
END:DAYLIGHT
END:VTIMEZONE
BEGIN:VTIMEZONE
TZID:UTC
BEGIN:STANDARD
DTSTART:20250728T074345Z
TZOFFSETFROM:+0000
TZOFFSETTO:+0000
END:STANDARD
END:VTIMEZONE
BEGIN:VEVENT
UID:26-21
DTSTAMP:20260424T074345Z
SUMMARY:2PM: Reunited and It Feels So Good by Jennifer Mendelsohn
LOCATION:
ORGANIZER;CN=JGS Long Island:MAILTO:webmaster@jgsli.org
DTSTART;TZID=America/New_York:20221120T140000
DTEND;TZID=America/New_York:20221120T160000
X-ALT-DESC;FMTTYPE=TEXT/HTML:<p>A 95-year-old Holocaust survivor whose enti
 re family was lost learns she has three living first cousins. An orphaned 
 child survivor of the Holocaust lives her entire life without knowing her 
 true identify. Four years after her death\, the woman's daughter is finall
 y reunited with her biological family thanks to a DNA test.  This talk wil
 l detail some of the amazing and unexpected reunions Jennifer Mendelsohn h
 as been able to make happen through dogged paper trail research and carefu
 l DNA analysis. She'll share these incredible reunion stories along with s
 ome tips and best practices for reconnecting with lost relatives.</p>\n
CATEGORIES:General
URL;VALUE=URI:https://jgsli.org/mc-events/2pm-reunited-and-it-feels-so-good
 -by-jennifer-mendelsohn/
METHOD:PUBLISH
END:VEVENT
END:VCALENDAR