BEGIN:VCALENDAR
VERSION:2.0
PRODID:spatie/icalendar-generator
DESCRIPTION:Events from JGSLI
X-WR-CALDESC:Events from JGSLI
REFRESH-INTERVAL;VALUE=DURATION:PT1440M
X-PUBLISHED-TTL:PT1440M
BEGIN:VTIMEZONE
TZID:America/New_York
BEGIN:DAYLIGHT
DTSTART:20220313T020000Z
TZOFFSETFROM:-0500
TZOFFSETTO:-0400
END:DAYLIGHT
BEGIN:STANDARD
DTSTART:20221106T020000Z
TZOFFSETFROM:-0400
TZOFFSETTO:-0500
END:STANDARD
END:VTIMEZONE
BEGIN:VTIMEZONE
TZID:UTC
BEGIN:STANDARD
DTSTART:20250728T120449Z
TZOFFSETFROM:+0000
TZOFFSETTO:+0000
END:STANDARD
END:VTIMEZONE
BEGIN:VEVENT
UID:19-15
DTSTAMP:20260424T120449Z
SUMMARY:7PM Patronymic Naming and the Value of Cemetery Research by Nolan A
 ltman
LOCATION:Virtual via Zoom
ORGANIZER;CN=JGS Long Island:MAILTO:webmaster@jgsli.org
DTSTART;TZID=America/New_York;VALUE=DATE:20220810
DTEND;TZID=America/New_York;VALUE=DATE:20220811
X-ALT-DESC;FMTTYPE=TEXT/HTML:<p>Headstone inscriptions provide one of the m
 ost important tools for those researching their Jewish genealogical histor
 y\, patronymic naming. This presentation will familiarize the attendees wi
 th the evolution of family surnames and the practice of patronymic naming.
  Recognizing the components of patronymic naming\, participants will learn
  how to take advantage of these clues to link their family through generat
 ions.  Even if you can’t read Hebrew\, I will explain how you can unders
 tand the inscriptions.</p>\n
CATEGORIES:General
URL;VALUE=URI:https://jgsli.org/mc-events/7pm-patronymic-naming-and-the-val
 ue-of-cemetery-research-by-nolan-altman/
METHOD:PUBLISH
END:VEVENT
END:VCALENDAR