BEGIN:VCALENDAR
VERSION:2.0
PRODID:spatie/icalendar-generator
DESCRIPTION:Events from JGSLI
X-WR-CALDESC:Events from JGSLI
REFRESH-INTERVAL;VALUE=DURATION:PT1440M
X-PUBLISHED-TTL:PT1440M
BEGIN:VTIMEZONE
TZID:America/New_York
BEGIN:STANDARD
DTSTART:20211107T020000Z
TZOFFSETFROM:-0400
TZOFFSETTO:-0500
END:STANDARD
BEGIN:DAYLIGHT
DTSTART:20220313T020000Z
TZOFFSETFROM:-0500
TZOFFSETTO:-0400
END:DAYLIGHT
BEGIN:STANDARD
DTSTART:20221106T020000Z
TZOFFSETFROM:-0400
TZOFFSETTO:-0500
END:STANDARD
END:VTIMEZONE
BEGIN:VTIMEZONE
TZID:UTC
BEGIN:STANDARD
DTSTART:20250728T142407Z
TZOFFSETFROM:+0000
TZOFFSETTO:+0000
END:STANDARD
END:VTIMEZONE
BEGIN:VEVENT
UID:15-12
DTSTAMP:20260424T142407Z
SUMMARY:7 PM - Ask The Experts
LOCATION:
ORGANIZER;CN=JGS Long Island:MAILTO:webmaster@jgsli.org
DTSTART;TZID=America/New_York:20220615T190000
DTEND;TZID=America/New_York:20220615T210000
X-ALT-DESC;FMTTYPE=TEXT/HTML:<p>Ask The Experts Panel – Nolan Altman\, Ma
 rilyn Gotkin\, Caitlin Hollander\, Rhoda Miller\, Gary Pokrassa\, Renée S
 teinig and Chuck Weinstein Are you stuck in your genealogy research? Have 
 questions about how your ancestors lived? Looking for a “pesky” docume
 nt? Trying to find your great grandfather’s hometown? Wondering how to d
 o research in a specific country? Our panel of experts will attempt to kno
 ck down our members’ brick walls to uncover new information. The panel w
 ill review the research steps undertaken and provide suggestions on how to
  take your research further.</p>\n
CATEGORIES:Virtual via Zoom
URL;VALUE=URI:https://jgsli.org/mc-events/7-pm-ask-the-experts/
METHOD:PUBLISH
END:VEVENT
END:VCALENDAR