BEGIN:VCALENDAR
VERSION:2.0
PRODID:spatie/icalendar-generator
DESCRIPTION:Events from JGSLI
X-WR-CALDESC:Events from JGSLI
REFRESH-INTERVAL;VALUE=DURATION:PT1440M
X-PUBLISHED-TTL:PT1440M
BEGIN:VTIMEZONE
TZID:America/New_York
BEGIN:STANDARD
DTSTART:20211107T020000Z
TZOFFSETFROM:-0400
TZOFFSETTO:-0500
END:STANDARD
BEGIN:DAYLIGHT
DTSTART:20220313T020000Z
TZOFFSETFROM:-0500
TZOFFSETTO:-0400
END:DAYLIGHT
BEGIN:STANDARD
DTSTART:20221106T020000Z
TZOFFSETFROM:-0400
TZOFFSETTO:-0500
END:STANDARD
END:VTIMEZONE
BEGIN:VTIMEZONE
TZID:UTC
BEGIN:STANDARD
DTSTART:20250728T153132Z
TZOFFSETFROM:+0000
TZOFFSETTO:+0000
END:STANDARD
END:VTIMEZONE
BEGIN:VEVENT
UID:14-11
DTSTAMP:20260424T153132Z
SUMMARY:2 PM - Mapping our Forefathers: YDNA and what it tells us about Jew
 ish Genealogy and History by Michael Waas
LOCATION:Virtual via Zoom
ORGANIZER;CN=JGS Long Island:MAILTO:webmaster@jgsli.org
DTSTART;TZID=America/New_York:20220522T140000
DTEND;TZID=America/New_York:20220522T160000
X-ALT-DESC;FMTTYPE=TEXT/HTML:<p>Since the genetic genealogy revolution bega
 n in the late 1990s\, more and more people have undertaken DNA testing to 
 solve genealogical riddles on their family trees. For genetic genealogy\, 
 there are three main types of tests -- Y-DNA\, mitochondrial DNA (mtDNA)\,
  and autosomal DNA. In his talk\, Michael Waas will focus on Y-DNA -- the 
 various types of tests available and how Y-DNA testing can both assist our
  family research and teach us about Jewish history. (Via Zoom only)</p>\n
CATEGORIES:Virtual via Zoom
URL;VALUE=URI:https://jgsli.org/mc-events/2-pm-mapping-our-forefathers-ydna
 -and-what-it-tells-us-about-jewish-genealogy-and-history-by-michael-waas/
METHOD:PUBLISH
END:VEVENT
END:VCALENDAR