BEGIN:VCALENDAR
VERSION:2.0
PRODID:spatie/icalendar-generator
DESCRIPTION:Events from JGSLI
X-WR-CALDESC:Events from JGSLI
REFRESH-INTERVAL;VALUE=DURATION:PT1440M
X-PUBLISHED-TTL:PT1440M
BEGIN:VTIMEZONE
TZID:America/New_York
BEGIN:STANDARD
DTSTART:20251102T020000Z
TZOFFSETFROM:-0400
TZOFFSETTO:-0500
END:STANDARD
BEGIN:DAYLIGHT
DTSTART:20260308T020000Z
TZOFFSETFROM:-0500
TZOFFSETTO:-0400
END:DAYLIGHT
BEGIN:STANDARD
DTSTART:20261101T020000Z
TZOFFSETFROM:-0400
TZOFFSETTO:-0500
END:STANDARD
END:VTIMEZONE
BEGIN:VTIMEZONE
TZID:UTC
BEGIN:STANDARD
DTSTART:20250727T145012Z
TZOFFSETFROM:+0000
TZOFFSETTO:+0000
END:STANDARD
END:VTIMEZONE
BEGIN:VEVENT
UID:128-96
DTSTAMP:20260423T145012Z
SUMMARY:Clued in: No Sheitel\, Sherlock: The Whole Truth About Our Family P
 hotographs by Ava Cohn (LIVE ONLY)
LOCATION:
ORGANIZER;CN=JGS Long Island:MAILTO:webmaster@jgsli.org
DTSTART;TZID=America/New_York:20260527T190000
DTEND;TZID=America/New_York:20260527T210000
X-ALT-DESC;FMTTYPE=TEXT/HTML:<p>This new presentation in the “Clued-In”
  series will set the record straight on the many myths about Jewish family
  photographs that\, despite many years of presenting facts\, still flouris
 h on social media and in general genealogy groups. Participants will learn
  the real reason why our relatives did not smile in their photographs\, wh
 y first impressions can be misleading\, why guessing is not always the bes
 t way to answer a Facebook inquiry\, why Jewish photographers did not take
  post mortem photographs\, what did photographs really cost and why they w
 ere not just for the wealthy\, did our ancestors borrow the clothes in the
 ir photographs and much more. This presentation aims\, in a light-hearted 
 way\, to dispel the myths and the bubbe meises so that we can truly see an
 d understand our photographs correctly as our relatives meant for us to do
 .  **THIS PRESENTATION WILL NOT BE RECORDED **</p>\n
CATEGORIES:General
URL;VALUE=URI:https://jgsli.org/mc-events/clued-in-no-sheitel-sherlock-the-
 whole-truth-about-our-family-photographs-by-ava-cohn-live-only/
METHOD:PUBLISH
END:VEVENT
END:VCALENDAR