BEGIN:VCALENDAR
VERSION:2.0
PRODID:spatie/icalendar-generator
DESCRIPTION:Events from JGSLI
X-WR-CALDESC:Events from JGSLI
REFRESH-INTERVAL;VALUE=DURATION:PT1440M
X-PUBLISHED-TTL:PT1440M
BEGIN:VTIMEZONE
TZID:America/New_York
BEGIN:DAYLIGHT
DTSTART:20260308T020000Z
TZOFFSETFROM:-0500
TZOFFSETTO:-0400
END:DAYLIGHT
BEGIN:STANDARD
DTSTART:20261101T020000Z
TZOFFSETFROM:-0400
TZOFFSETTO:-0500
END:STANDARD
BEGIN:DAYLIGHT
DTSTART:20270314T020000Z
TZOFFSETFROM:-0500
TZOFFSETTO:-0400
END:DAYLIGHT
END:VTIMEZONE
BEGIN:VTIMEZONE
TZID:UTC
BEGIN:STANDARD
DTSTART:20250727T144845Z
TZOFFSETFROM:+0000
TZOFFSETTO:+0000
END:STANDARD
END:VTIMEZONE
BEGIN:VEVENT
UID:124-102
DTSTAMP:20260423T144845Z
SUMMARY:The Politzer Saga by Linda Ambrus Broenniman
LOCATION:
ORGANIZER;CN=JGS Long Island:MAILTO:webmaster@jgsli.org
DTSTART;TZID=America/New_York:20261011T140000
DTEND;TZID=America/New_York:20261011T160000
X-ALT-DESC;FMTTYPE=TEXT/HTML:<p>A housefire in 2011. The contents of a box 
 that survives become the catalyst for a quest whose seeds were planted in 
 1983 – the day Linda Ambrus Broenniman learned that her Catholic father 
 was Jewish and what little family history she knew was a lie. Searching fo
 r truth\, Linda pieces together the astonishing story of her Jewish ancest
 ors -- the Politzer family--their remarkable lives lost to her father’s 
 secrets. From the Austro-Hungarian Empire in the 1700s to modern day Hunga
 ry and America\, she finds her family: doctors and lawyers\, entrepreneurs
  and industrialists\, writers and musicians\, artists and art collectors. 
 She learns of their resilience in surviving religious persecution\, wars\,
  epidemics\, and economic upheavals. Finding her roots brings Linda a new 
 sense of who she is and a peace that now she can honor the memories of her
  family. In helping Linda find her family\, András Gyekiczki wrote\, “I
  hardly know any non-fiction sagas to better exemplify Hungarian Jewish fa
 te of the past 300 years as this Politzer story.” Illuminating the destr
 uctive power of hatred\, dehumanization\, and injustice\, this powerful st
 ory encompasses issues that still echo today. The Politzer Saga is the sub
 ject of an Exhibition at the Rumbach Synagogue\, Budapest\, Hungary.</p>\n
CATEGORIES:General
URL;VALUE=URI:https://jgsli.org/mc-events/the-politzer-saga-by-linda-ambrus
 -broenniman/
METHOD:PUBLISH
END:VEVENT
END:VCALENDAR