BEGIN:VCALENDAR
VERSION:2.0
PRODID:spatie/icalendar-generator
DESCRIPTION:Events from JGSLI
X-WR-CALDESC:Events from JGSLI
REFRESH-INTERVAL;VALUE=DURATION:PT1440M
X-PUBLISHED-TTL:PT1440M
BEGIN:VTIMEZONE
TZID:America/New_York
BEGIN:STANDARD
DTSTART:20251102T020000Z
TZOFFSETFROM:-0400
TZOFFSETTO:-0500
END:STANDARD
BEGIN:DAYLIGHT
DTSTART:20260308T020000Z
TZOFFSETFROM:-0500
TZOFFSETTO:-0400
END:DAYLIGHT
BEGIN:STANDARD
DTSTART:20261101T020000Z
TZOFFSETFROM:-0400
TZOFFSETTO:-0500
END:STANDARD
END:VTIMEZONE
BEGIN:VTIMEZONE
TZID:UTC
BEGIN:STANDARD
DTSTART:20250727T151928Z
TZOFFSETFROM:+0000
TZOFFSETTO:+0000
END:STANDARD
END:VTIMEZONE
BEGIN:VEVENT
UID:117-97
DTSTAMP:20260423T151928Z
SUMMARY:How to Learn Family Stories from Crumbs: Polish Notary Records by A
 nna Wiernicka
LOCATION:Virtual via Zoom
ORGANIZER;CN=JGS Long Island:MAILTO:webmaster@jgsli.org
DTSTART;TZID=America/New_York:20260614T140000
DTEND;TZID=America/New_York:20260614T160000
X-ALT-DESC;FMTTYPE=TEXT/HTML:<p>This lecture aims to present notarial sourc
 es and explain their value in genealogical research. The institution of no
 taries existed in Poland during the Middle Ages\, and operated within muni
 cipal and land law frameworks. However\, its modern development began with
  the introduction of the French notarial law in the Duchy of Warsaw in 180
 8. The lecture will present the variety of documents created in notarial o
 ffices and their usefulness for genealogical research. The information con
 tained in notarial records not only allows us to connect generations\, but
  above all gives us a rich and vivid picture of the lives of our ancestors
 . You will also receive tips on how to start searching notarial records on
  your own.</p>\n
CATEGORIES:General
URL;VALUE=URI:https://jgsli.org/mc-events/how-to-learn-family-stories-from-
 crumbs-polish-notary-records-by-anna-wiernicka/
METHOD:PUBLISH
END:VEVENT
END:VCALENDAR