BEGIN:VCALENDAR
VERSION:2.0
PRODID:spatie/icalendar-generator
DESCRIPTION:Events from JGSLI
X-WR-CALDESC:Events from JGSLI
REFRESH-INTERVAL;VALUE=DURATION:PT1440M
X-PUBLISHED-TTL:PT1440M
BEGIN:VTIMEZONE
TZID:America/New_York
BEGIN:STANDARD
DTSTART:20251102T020000Z
TZOFFSETFROM:-0400
TZOFFSETTO:-0500
END:STANDARD
BEGIN:DAYLIGHT
DTSTART:20260308T020000Z
TZOFFSETFROM:-0500
TZOFFSETTO:-0400
END:DAYLIGHT
END:VTIMEZONE
BEGIN:VTIMEZONE
TZID:UTC
BEGIN:STANDARD
DTSTART:20250727T204619Z
TZOFFSETFROM:+0000
TZOFFSETTO:+0000
END:STANDARD
END:VTIMEZONE
BEGIN:VEVENT
UID:113-94
DTSTAMP:20260423T204619Z
SUMMARY:Preserve Your Family Memories Through Personal Digital Archiving by
  Lori DiBella Wallach
LOCATION:
ORGANIZER;CN=JGS Long Island:MAILTO:webmaster@jgsli.org
DTSTART;TZID=America/New_York:20260412T140000
DTEND;TZID=America/New_York:20260412T160000
X-ALT-DESC;FMTTYPE=TEXT/HTML:Are you the memory keeper for yourself and the
  people in your life? Feeling overwhelmed with all the photos\, documents\
 , letters\, home movies\, and other treasures you’ve accumulated? Wonder
 ing how to organize these items and make sure they survive to be passed do
 wn to future generations? Join archivist Lori DiBella Wallach for a fun ex
 ploration&amp;hellip\;
CATEGORIES:General
URL;VALUE=URI:https://jgsli.org/mc-events/preserve-your-family-memories-thr
 ough-personal-digital-archiving-by-lori-dibella-wallach/
METHOD:PUBLISH
END:VEVENT
END:VCALENDAR