BEGIN:VCALENDAR
VERSION:2.0
PRODID:spatie/icalendar-generator
DESCRIPTION:Events from JGSLI
X-WR-CALDESC:Events from JGSLI
REFRESH-INTERVAL;VALUE=DURATION:PT1440M
X-PUBLISHED-TTL:PT1440M
BEGIN:VTIMEZONE
TZID:America/New_York
BEGIN:STANDARD
DTSTART:20251102T020000Z
TZOFFSETFROM:-0400
TZOFFSETTO:-0500
END:STANDARD
BEGIN:DAYLIGHT
DTSTART:20260308T020000Z
TZOFFSETFROM:-0500
TZOFFSETTO:-0400
END:DAYLIGHT
END:VTIMEZONE
BEGIN:VTIMEZONE
TZID:UTC
BEGIN:STANDARD
DTSTART:20250728T001230Z
TZOFFSETFROM:+0000
TZOFFSETTO:+0000
END:STANDARD
END:VTIMEZONE
BEGIN:VEVENT
UID:109-91
DTSTAMP:20260424T001230Z
SUMMARY:What's New in Family Tree Maker by Mark Olsen
LOCATION:
ORGANIZER;CN=JGS Long Island:MAILTO:webmaster@jgsli.org
DTSTART;TZID=America/New_York:20260225T190000
DTEND;TZID=America/New_York:20260225T210000
X-ALT-DESC;FMTTYPE=TEXT/HTML:Join us for an interactive overview of new and
  upcoming Family Tree Maker features. We'll cover essential updates from F
 TM 2019 and enhancements that are part of FTM 2024. We’ll walk through t
 he eight workspaces\, explore improved workflows for people\, facts\, medi
 a\, and sources\, and discuss syncing best practices with Ancestry. We’l
 l also feature Charting&amp;hellip\;
CATEGORIES:General
URL;VALUE=URI:https://jgsli.org/mc-events/whats-new-in-family-tree-maker-by
 -mark-olsen/
METHOD:PUBLISH
END:VEVENT
END:VCALENDAR