BEGIN:VCALENDAR
VERSION:2.0
PRODID:spatie/icalendar-generator
DESCRIPTION:Events from JGSLI
X-WR-CALDESC:Events from JGSLI
REFRESH-INTERVAL;VALUE=DURATION:PT1440M
X-PUBLISHED-TTL:PT1440M
BEGIN:VTIMEZONE
TZID:America/New_York
BEGIN:DAYLIGHT
DTSTART:20250309T020000Z
TZOFFSETFROM:-0500
TZOFFSETTO:-0400
END:DAYLIGHT
BEGIN:STANDARD
DTSTART:20251102T020000Z
TZOFFSETFROM:-0400
TZOFFSETTO:-0500
END:STANDARD
BEGIN:DAYLIGHT
DTSTART:20260308T020000Z
TZOFFSETFROM:-0500
TZOFFSETTO:-0400
END:DAYLIGHT
END:VTIMEZONE
BEGIN:VTIMEZONE
TZID:UTC
BEGIN:STANDARD
DTSTART:20250727T181850Z
TZOFFSETFROM:+0000
TZOFFSETTO:+0000
END:STANDARD
END:VTIMEZONE
BEGIN:VEVENT
UID:103-85
DTSTAMP:20260423T181850Z
SUMMARY:In Search of Time Past: the Rose Libshitz Chronicles by Keith Lesli
 e (Zoom Only)
LOCATION:
ORGANIZER;CN=JGS Long Island:MAILTO:webmaster@jgsli.org
DTSTART;TZID=America/New_York:20251109T140000
DTEND;TZID=America/New_York:20251109T160000
X-ALT-DESC;FMTTYPE=TEXT/HTML:<p>Growing up\, the author often recalled two 
 objects from his childhood: a 19th C. B&amp;amp\;W photograph of a distinguish
 ed rabbinic figure who\, he was told\, was a distant relative and a straw-
 colored book cover\, 'In Praise of Wisdom' by Jakob Klatzkin\, prominently
  situated in a vitrine in his grandmother's Manhattan apartment. As the de
 cades passed while he lived\, worked and raised a family in Nepal\, he sti
 ll wondered who were these two dignified men and what was their physical\,
  even intellectual\, relationship to him? Unfolding their lives and resear
 ching their lineage through his maternal ancestry revealed not only the Eu
 ropean roots of his American family\, including a friendship with Einstein
  in Berlin in the 1920s\, as well as family relationships that stretched a
 round the globe\, including those who never escaped the traumas of the 20t
 h Century and those who made new lives in the new world.</p>\n
CATEGORIES:General
URL;VALUE=URI:https://jgsli.org/mc-events/in-search-of-time-past-the-rose-l
 ibshitz-chronicles-by-keith-leslie-zoom-only/
METHOD:PUBLISH
END:VEVENT
END:VCALENDAR