BEGIN:VCALENDAR
VERSION:2.0
PRODID:spatie/icalendar-generator
DESCRIPTION:Events from JGSLI
X-WR-CALDESC:Events from JGSLI
REFRESH-INTERVAL;VALUE=DURATION:PT1440M
X-PUBLISHED-TTL:PT1440M
BEGIN:VTIMEZONE
TZID:America/New_York
BEGIN:DAYLIGHT
DTSTART:20250309T020000Z
TZOFFSETFROM:-0500
TZOFFSETTO:-0400
END:DAYLIGHT
BEGIN:STANDARD
DTSTART:20251102T020000Z
TZOFFSETFROM:-0400
TZOFFSETTO:-0500
END:STANDARD
BEGIN:DAYLIGHT
DTSTART:20260308T020000Z
TZOFFSETFROM:-0500
TZOFFSETTO:-0400
END:DAYLIGHT
END:VTIMEZONE
BEGIN:VTIMEZONE
TZID:UTC
BEGIN:STANDARD
DTSTART:20250727T180151Z
TZOFFSETFROM:+0000
TZOFFSETTO:+0000
END:STANDARD
END:VTIMEZONE
BEGIN:VEVENT
UID:101-83
DTSTAMP:20260423T180151Z
SUMMARY:Nassau (formerly Queens)\, Suffolk: Transition\, Migration\, and Re
 cords by Susan Miller(Only Zoom)
LOCATION:Mid-Island Y JCC 45 Manetto Hill Rd  Plainview NY 11803
ORGANIZER;CN=JGS Long Island:MAILTO:webmaster@jgsli.org
DTSTART;TZID=America/New_York:20251012T140000
DTEND;TZID=America/New_York:20251012T160000
X-ALT-DESC;FMTTYPE=TEXT/HTML:<p>This session discusses municipal organizati
 on\, the transition from Queens to Nassau County\, migration from New York
  City and elsewhere\, and records and repositories for research in Nassau 
 and Queens.</p>\n
CATEGORIES:General
URL;VALUE=URI:https://jgsli.org/mc-events/nassau-formerly-queens-suffolk-tr
 ansition-migration-and-records-by-susan-milleronly-zoom/
METHOD:PUBLISH
END:VEVENT
END:VCALENDAR