BEGIN:VCALENDAR
VERSION:2.0
PRODID:spatie/icalendar-generator
DESCRIPTION:Events from JGSLI
X-WR-CALDESC:Events from JGSLI
REFRESH-INTERVAL;VALUE=DURATION:PT1440M
X-PUBLISHED-TTL:PT1440M
BEGIN:VTIMEZONE
TZID:America/New_York
BEGIN:STANDARD
DTSTART:20241103T020000Z
TZOFFSETFROM:-0400
TZOFFSETTO:-0500
END:STANDARD
BEGIN:DAYLIGHT
DTSTART:20250309T020000Z
TZOFFSETFROM:-0500
TZOFFSETTO:-0400
END:DAYLIGHT
END:VTIMEZONE
BEGIN:VTIMEZONE
TZID:UTC
BEGIN:STANDARD
DTSTART:20250727T182450Z
TZOFFSETFROM:+0000
TZOFFSETTO:+0000
END:STANDARD
END:VTIMEZONE
BEGIN:VEVENT
UID:99-81
DTSTAMP:20260423T182450Z
SUMMARY:Special Meeting: New York State Vital Records Access
LOCATION:
ORGANIZER;CN=JGS Long Island:MAILTO:webmaster@jgsli.org
DTSTART;TZID=America/New_York;VALUE=DATE:20250206
DTEND;TZID=America/New_York;VALUE=DATE:20250207
X-ALT-DESC;FMTTYPE=TEXT/HTML:<p>This last-minute extra meeting will be devo
 ted to discussing proposed changes to New York State birth\, marriage and 
 death records access. The FY2026 New York State budget proposes to severel
 y limit access to historical New York State vital records and to greatly i
 ncrease the cost of the records that remain available. Join JGSLI members\
 , Alex Calzareth and Alec Ferretti to learn about what the budget proposes
  and opportunities to comment on them before the Tuesday\, February 11th d
 eadline. The recording of this meeting is open to all at <a href="https:/
 /jgsli.org/new-york-state-vital-records-access/">New York State Vital Rec
 ords Access</a></p>\n
CATEGORIES:General
URL;VALUE=URI:https://jgsli.org/mc-events/special-meeting-new-york-state-vi
 tal-records-access/
METHOD:PUBLISH
END:VEVENT
END:VCALENDAR