BEGIN:VCALENDAR
VERSION:2.0
PRODID:spatie/icalendar-generator
DESCRIPTION:Events from JGSLI
X-WR-CALDESC:Events from JGSLI
REFRESH-INTERVAL;VALUE=DURATION:PT1440M
X-PUBLISHED-TTL:PT1440M
BEGIN:VTIMEZONE
TZID:America/New_York
BEGIN:STANDARD
DTSTART:20241103T020000Z
TZOFFSETFROM:-0400
TZOFFSETTO:-0500
END:STANDARD
BEGIN:DAYLIGHT
DTSTART:20250309T020000Z
TZOFFSETFROM:-0500
TZOFFSETTO:-0400
END:DAYLIGHT
BEGIN:STANDARD
DTSTART:20251102T020000Z
TZOFFSETFROM:-0400
TZOFFSETTO:-0500
END:STANDARD
END:VTIMEZONE
BEGIN:VTIMEZONE
TZID:UTC
BEGIN:STANDARD
DTSTART:20250727T163833Z
TZOFFSETFROM:+0000
TZOFFSETTO:+0000
END:STANDARD
END:VTIMEZONE
BEGIN:VEVENT
UID:95-78
DTSTAMP:20260423T163833Z
SUMMARY:Morse Code: Favorite Tools on Steve Morse's Web Site by Banai Felds
 tein
LOCATION:
ORGANIZER;CN=JGS Long Island:MAILTO:webmaster@jgsli.org
DTSTART;TZID=America/New_York:20250625T190000
DTEND;TZID=America/New_York:20250625T210000
X-ALT-DESC;FMTTYPE=TEXT/HTML:Steve Morse has provided a plethora of tools o
 n his web site to help genealogists more easily access the data on other w
 eb sites\, including the Ellis Island web site\, New York City vital recor
 ds indexes\, and the US Federal Census ED finder. Banai will discuss these
  and other tools on his site\, which ones&amp;hellip\;
CATEGORIES:General
URL;VALUE=URI:https://jgsli.org/mc-events/morse-code-favorite-tools-on-stev
 e-morses-web-site-by-banai-feldstein/
METHOD:PUBLISH
END:VEVENT
END:VCALENDAR