BEGIN:VCALENDAR
VERSION:2.0
PRODID:spatie/icalendar-generator
DESCRIPTION:Events from JGSLI
X-WR-CALDESC:Events from JGSLI
REFRESH-INTERVAL;VALUE=DURATION:PT1440M
X-PUBLISHED-TTL:PT1440M
BEGIN:VTIMEZONE
TZID:America/New_York
BEGIN:STANDARD
DTSTART:20241103T020000Z
TZOFFSETFROM:-0400
TZOFFSETTO:-0500
END:STANDARD
BEGIN:DAYLIGHT
DTSTART:20250309T020000Z
TZOFFSETFROM:-0500
TZOFFSETTO:-0400
END:DAYLIGHT
END:VTIMEZONE
BEGIN:VTIMEZONE
TZID:UTC
BEGIN:STANDARD
DTSTART:20250727T163931Z
TZOFFSETFROM:+0000
TZOFFSETTO:+0000
END:STANDARD
END:VTIMEZONE
BEGIN:VEVENT
UID:92-75
DTSTAMP:20260423T163931Z
SUMMARY:Using FamilySearch to find your Jewish ancestors by W. Todd Knowles
LOCATION:
ORGANIZER;CN=JGS Long Island:MAILTO:webmaster@jgsli.org
DTSTART;TZID=America/New_York:20250422T190000
DTEND;TZID=America/New_York:20250422T210000
X-ALT-DESC;FMTTYPE=TEXT/HTML:<p>For more than 125 years\, FamilySearch and 
 its predecessors have been gathering\, preserving and sharing genealogical
  information worldwide. Through the website www.familysearch.org\, researc
 hers all over the world have free access to billions of records. This pres
 entation will help the attendees find the records of their Jewish ancestor
 s within the records of FamilySearch.</p>\n
CATEGORIES:Virtual via Zoom
URL;VALUE=URI:https://jgsli.org/mc-events/using-familysearch-to-find-your-j
 ewish-ancestors-by-w-todd-knowles/
METHOD:PUBLISH
END:VEVENT
END:VCALENDAR