BEGIN:VCALENDAR
VERSION:2.0
PRODID:spatie/icalendar-generator
DESCRIPTION:Events from JGSLI
X-WR-CALDESC:Events from JGSLI
REFRESH-INTERVAL;VALUE=DURATION:PT1440M
X-PUBLISHED-TTL:PT1440M
BEGIN:VTIMEZONE
TZID:America/New_York
BEGIN:STANDARD
DTSTART:20241103T020000Z
TZOFFSETFROM:-0400
TZOFFSETTO:-0500
END:STANDARD
BEGIN:DAYLIGHT
DTSTART:20250309T020000Z
TZOFFSETFROM:-0500
TZOFFSETTO:-0400
END:DAYLIGHT
END:VTIMEZONE
BEGIN:VTIMEZONE
TZID:UTC
BEGIN:STANDARD
DTSTART:20250727T163757Z
TZOFFSETFROM:+0000
TZOFFSETTO:+0000
END:STANDARD
END:VTIMEZONE
BEGIN:VEVENT
UID:91-74
DTSTAMP:20260423T163757Z
SUMMARY:The Legacy Project at Mount Hebron Cemetery by Adam Ginsberg and De
 irdre Mooney
LOCATION:
ORGANIZER;CN=JGS Long Island:MAILTO:webmaster@jgsli.org
DTSTART;TZID=America/New_York:20250406T140000
DTEND;TZID=America/New_York:20250406T160000
X-ALT-DESC;FMTTYPE=TEXT/HTML:<p>Adam Ginsberg\, President of Cedar Grove Ce
 metery Association\, which includes Mount Hebron Cemetery and Deirdre Poul
 os\, Director of the Legacy Foundation at Mount Hebron will discuss resear
 ch of those buried at Mount Hebron.</p>\n
CATEGORIES:Hybrid
URL;VALUE=URI:https://jgsli.org/mc-events/the-legacy-project-at-mount-hebro
 n-cemetery-by-adam-ginsberg-and-deirdre-mooney/
METHOD:PUBLISH
END:VEVENT
END:VCALENDAR