BEGIN:VCALENDAR
VERSION:2.0
PRODID:spatie/icalendar-generator
DESCRIPTION:Events from JGSLI
X-WR-CALDESC:Events from JGSLI
REFRESH-INTERVAL;VALUE=DURATION:PT1440M
X-PUBLISHED-TTL:PT1440M
BEGIN:VTIMEZONE
TZID:America/New_York
BEGIN:STANDARD
DTSTART:20241103T020000Z
TZOFFSETFROM:-0400
TZOFFSETTO:-0500
END:STANDARD
BEGIN:DAYLIGHT
DTSTART:20250309T020000Z
TZOFFSETFROM:-0500
TZOFFSETTO:-0400
END:DAYLIGHT
END:VTIMEZONE
BEGIN:VTIMEZONE
TZID:UTC
BEGIN:STANDARD
DTSTART:20250727T194225Z
TZOFFSETFROM:+0000
TZOFFSETTO:+0000
END:STANDARD
END:VTIMEZONE
BEGIN:VEVENT
UID:87-70
DTSTAMP:20260423T194225Z
SUMMARY:Introduction to Landsmanschaftn by Avrohom Krauss
LOCATION:
ORGANIZER;CN=JGS Long Island:MAILTO:webmaster@jgsli.org
DTSTART;TZID=America/New_York:20250112T140000
DTEND;TZID=America/New_York:20250112T160000
X-ALT-DESC;FMTTYPE=TEXT/HTML:<p>Landsmanshaftn or immigrant mutual aid soci
 eties were organizations formed by immigrants from a common ancestral loca
 tion. They provided to their members social benefits\, raised funds for th
 e needy back home and memorialized their towns after the Shoah. These “s
 htetl satellites\" flourished wherever immigrants were found\, especially 
 in North America and Israel but also in Argentina\, South Africa and Austr
 alia. Their study is an essential part of ancestral town research. Records
  kept by these organizations often reveal genealogical information not fou
 nd elsewhere. Here one may learn about the activities and life of an ances
 tor or discover a lost or unknown branch of a family tree. This session wi
 ll survey landsmanshaftn and their activities and acquaint the researcher 
 with</p>\n
CATEGORIES:General
URL;VALUE=URI:https://jgsli.org/mc-events/introduction-to-landsmanschaftn-b
 y-avrohom-krauss/
METHOD:PUBLISH
END:VEVENT
END:VCALENDAR