BEGIN:VCALENDAR
VERSION:2.0
PRODID:spatie/icalendar-generator
DESCRIPTION:Events from JGSLI
X-WR-CALDESC:Events from JGSLI
REFRESH-INTERVAL;VALUE=DURATION:PT1440M
X-PUBLISHED-TTL:PT1440M
BEGIN:VTIMEZONE
TZID:America/New_York
BEGIN:DAYLIGHT
DTSTART:20240310T020000Z
TZOFFSETFROM:-0500
TZOFFSETTO:-0400
END:DAYLIGHT
BEGIN:STANDARD
DTSTART:20241103T020000Z
TZOFFSETFROM:-0400
TZOFFSETTO:-0500
END:STANDARD
BEGIN:DAYLIGHT
DTSTART:20250309T020000Z
TZOFFSETFROM:-0500
TZOFFSETTO:-0400
END:DAYLIGHT
END:VTIMEZONE
BEGIN:VTIMEZONE
TZID:UTC
BEGIN:STANDARD
DTSTART:20250727T202114Z
TZOFFSETFROM:+0000
TZOFFSETTO:+0000
END:STANDARD
END:VTIMEZONE
BEGIN:VEVENT
UID:81-66
DTSTAMP:20260423T202114Z
SUMMARY:Finding Immigration and Naturalization Records: Advanced Strategies
  and Techniques by Lisa Alzo
LOCATION:Virtual via Zoom
ORGANIZER;CN=JGS Long Island:MAILTO:webmaster@jgsli.org
DTSTART;TZID=America/New_York:20241106T190000
DTEND;TZID=America/New_York:20241106T210000
X-ALT-DESC;FMTTYPE=TEXT/HTML:<p>Every immigrant has a story. This webinar w
 ill discuss how to leverage the data in passenger lists\, naturalization r
 ecords\, and other documents of ethnic-based communities and neighborhoods
  (such as historic newspapers and oral histories\,) to uncover key clues a
 bout your immigrant ancestors. Learn strategies and techniques to find you
 r elusive ancestor among others with the same name and how to deal with na
 me changes\, as well as how to locate missing manifests due to transcripti
 on or other database errors. A brief overview of how social history and mi
 gration patterns can help you track your ancestors on both sides of the oc
 ean will also be provided.</p>\n
CATEGORIES:General
URL;VALUE=URI:https://jgsli.org/mc-events/finding-immigration-and-naturaliz
 ation-records-advanced-strategies-and-techniques-by-lisa-alzo/
METHOD:PUBLISH
END:VEVENT
END:VCALENDAR