BEGIN:VCALENDAR
VERSION:2.0
PRODID:spatie/icalendar-generator
DESCRIPTION:Events from JGSLI
X-WR-CALDESC:Events from JGSLI
REFRESH-INTERVAL;VALUE=DURATION:PT1440M
X-PUBLISHED-TTL:PT1440M
BEGIN:VTIMEZONE
TZID:America/New_York
BEGIN:DAYLIGHT
DTSTART:20240310T020000Z
TZOFFSETFROM:-0500
TZOFFSETTO:-0400
END:DAYLIGHT
BEGIN:STANDARD
DTSTART:20241103T020000Z
TZOFFSETFROM:-0400
TZOFFSETTO:-0500
END:STANDARD
BEGIN:DAYLIGHT
DTSTART:20250309T020000Z
TZOFFSETFROM:-0500
TZOFFSETTO:-0400
END:DAYLIGHT
END:VTIMEZONE
BEGIN:VTIMEZONE
TZID:UTC
BEGIN:STANDARD
DTSTART:20250727T201940Z
TZOFFSETFROM:+0000
TZOFFSETTO:+0000
END:STANDARD
END:VTIMEZONE
BEGIN:VEVENT
UID:80-65
DTSTAMP:20260423T201940Z
SUMMARY:Breaking the Myth: All Our Family Records Were Lost During the Holo
 caust by Nolan Altman (Hybrid Meeting)
LOCATION:Mid-Island Y JCC 45 Manetto Hill Rd  Plainview NY 11803
ORGANIZER;CN=JGS Long Island:MAILTO:webmaster@jgsli.org
DTSTART;TZID=America/New_York:20241013T140000
DTEND;TZID=America/New_York:20241013T160000
X-ALT-DESC;FMTTYPE=TEXT/HTML:<p>It’s not unusual to hear from people that
  lost relatives and friends due to the Holocaust that there are no records
  available for them to find. Well\, that isn’t always true. With more an
 d more archival files undergoing indexing projects\, there are a significa
 nt number of resources that you should be aware of. As coordinator for Jew
 ishGen’s Holocaust Database\, Nolan will show you what is available thro
 ugh the JewishGen site. In addition\, this presentation will give you an o
 verview of some of the other main sources of Holocaust period resources av
 ailable to family historians. I’ll also include some non-traditional sou
 rces of information that might help with your family research.</p>\n
CATEGORIES:General
URL;VALUE=URI:https://jgsli.org/mc-events/breaking-the-myth-all-our-family-
 records-were-lost-during-the-holocaust-by-nolan-altman-hybrid-meeting/
METHOD:PUBLISH
END:VEVENT
END:VCALENDAR