BEGIN:VCALENDAR
VERSION:2.0
PRODID:spatie/icalendar-generator
DESCRIPTION:Events from JGSLI
X-WR-CALDESC:Events from JGSLI
REFRESH-INTERVAL;VALUE=DURATION:PT1440M
X-PUBLISHED-TTL:PT1440M
BEGIN:VTIMEZONE
TZID:America/New_York
BEGIN:STANDARD
DTSTART:20211107T020000Z
TZOFFSETFROM:-0400
TZOFFSETTO:-0500
END:STANDARD
BEGIN:DAYLIGHT
DTSTART:20220313T020000Z
TZOFFSETFROM:-0500
TZOFFSETTO:-0400
END:DAYLIGHT
END:VTIMEZONE
BEGIN:VTIMEZONE
TZID:UTC
BEGIN:STANDARD
DTSTART:20250728T161452Z
TZOFFSETFROM:+0000
TZOFFSETTO:+0000
END:STANDARD
END:VTIMEZONE
BEGIN:VEVENT
UID:8-5
DTSTAMP:20260424T161452Z
SUMMARY:7PM - Out of the Whirlwind: Resources for Holocaust Research by Deb
 bie Long
LOCATION:
ORGANIZER;CN=JGS Long Island:MAILTO:webmaster@jgsli.org
DTSTART;TZID=America/New_York:20220315T190000
DTEND;TZID=America/New_York:20220315T200000
X-ALT-DESC;FMTTYPE=TEXT/HTML:<p>Virtual only - The daughter of two Holocaus
 t survivors\, Deborah Long reviews the best (as well as some of the obscur
 e) resources and methods for determining the fate of those involved in the
  Holocaust\, including survivors and victims. Deborah will use examples fr
 om her own research to demonstrate the documents and artifacts she discove
 red.</p>\n
CATEGORIES:General
URL;VALUE=URI:https://jgsli.org/mc-events/7pm-out-of-the-whirlwind-resource
 s-for-holocaust-research-by-debbie-long/
METHOD:PUBLISH
END:VEVENT
END:VCALENDAR