BEGIN:VCALENDAR
VERSION:2.0
PRODID:spatie/icalendar-generator
DESCRIPTION:Events from JGSLI
X-WR-CALDESC:Events from JGSLI
REFRESH-INTERVAL;VALUE=DURATION:PT1440M
X-PUBLISHED-TTL:PT1440M
BEGIN:VTIMEZONE
TZID:America/New_York
BEGIN:DAYLIGHT
DTSTART:20240310T020000Z
TZOFFSETFROM:-0500
TZOFFSETTO:-0400
END:DAYLIGHT
BEGIN:STANDARD
DTSTART:20241103T020000Z
TZOFFSETFROM:-0400
TZOFFSETTO:-0500
END:STANDARD
BEGIN:DAYLIGHT
DTSTART:20250309T020000Z
TZOFFSETFROM:-0500
TZOFFSETTO:-0400
END:DAYLIGHT
END:VTIMEZONE
BEGIN:VTIMEZONE
TZID:UTC
BEGIN:STANDARD
DTSTART:20250727T202109Z
TZOFFSETFROM:+0000
TZOFFSETTO:+0000
END:STANDARD
END:VTIMEZONE
BEGIN:VEVENT
UID:78-63
DTSTAMP:20260423T202109Z
SUMMARY:2 PM: Imagine Your Family History by Chuck Weinstein (Hybrid Meetin
 g)
LOCATION:
ORGANIZER;CN=JGS Long Island:MAILTO:webmaster@jgsli.org
DTSTART;TZID=America/New_York:20240922T140000
DTEND;TZID=America/New_York:20240922T160000
X-ALT-DESC;FMTTYPE=TEXT/HTML:<p>Imagine Your Family History covers a variet
 y of reasons why your family came to America and what they found here. It 
 covers how they got to ports of emigration in Europe and they voyage acros
 s the Atlantic (hint: no cruise ships here!) Finally\, what was their life
  in America like? The period of time covered is The Great Migration (1880-
 1924).</p>\n
CATEGORIES:General
URL;VALUE=URI:https://jgsli.org/mc-events/2-pm-imagine-your-family-history-
 by-chuck-weinstein-hybrid-meeting/
METHOD:PUBLISH
END:VEVENT
END:VCALENDAR