BEGIN:VCALENDAR
VERSION:2.0
PRODID:spatie/icalendar-generator
DESCRIPTION:Events from JGSLI
X-WR-CALDESC:Events from JGSLI
REFRESH-INTERVAL;VALUE=DURATION:PT1440M
X-PUBLISHED-TTL:PT1440M
BEGIN:VTIMEZONE
TZID:America/New_York
BEGIN:DAYLIGHT
DTSTART:20240310T020000Z
TZOFFSETFROM:-0500
TZOFFSETTO:-0400
END:DAYLIGHT
BEGIN:STANDARD
DTSTART:20241103T020000Z
TZOFFSETFROM:-0400
TZOFFSETTO:-0500
END:STANDARD
END:VTIMEZONE
BEGIN:VTIMEZONE
TZID:UTC
BEGIN:STANDARD
DTSTART:20250727T201332Z
TZOFFSETFROM:+0000
TZOFFSETTO:+0000
END:STANDARD
END:VTIMEZONE
BEGIN:VEVENT
UID:77-62
DTSTAMP:20260423T201332Z
SUMMARY:7PM: How I learned about My Family's Journey from Galicia to New Yo
 rk and many stops in-between-1911-1958 (2023) by Dr. Milton Koch
LOCATION:
ORGANIZER;CN=JGS Long Island:MAILTO:webmaster@jgsli.org
DTSTART;TZID=America/New_York:20240904T190000
DTEND;TZID=America/New_York:20240904T210000
X-ALT-DESC;FMTTYPE=TEXT/HTML:<p>After many years Milton opened a box of doc
 uments that his mother had saved\, starting him on a journey to discover t
 he story of his family during the Shoah. Starting in Vienna including an a
 rrest and transport to Dachau\, then to Luxembourg\, on to Lisbon and Cuba
  before ending in the US\, the family odyssey took years to fully discover
 . His research took several unusual turns including donations to the USHMM
 \, which led to unforeseen connections. He will describe the twists and tu
 rns of his voyage of discovery and the unusual events that ended with a fu
 lly explored history of his family’s saga.</p>\n
CATEGORIES:General
URL;VALUE=URI:https://jgsli.org/mc-events/7pm-how-i-learned-about-my-family
 s-journey-from-galicia-to-new-york-and-many-stops-in-between-1911-1958-202
 3-by-dr-milton-koch/
METHOD:PUBLISH
END:VEVENT
END:VCALENDAR