BEGIN:VCALENDAR
VERSION:2.0
PRODID:spatie/icalendar-generator
DESCRIPTION:Events from JGSLI
X-WR-CALDESC:Events from JGSLI
REFRESH-INTERVAL;VALUE=DURATION:PT1440M
X-PUBLISHED-TTL:PT1440M
BEGIN:VTIMEZONE
TZID:America/New_York
BEGIN:STANDARD
DTSTART:20231105T020000Z
TZOFFSETFROM:-0400
TZOFFSETTO:-0500
END:STANDARD
BEGIN:DAYLIGHT
DTSTART:20240310T020000Z
TZOFFSETFROM:-0500
TZOFFSETTO:-0400
END:DAYLIGHT
BEGIN:STANDARD
DTSTART:20241103T020000Z
TZOFFSETFROM:-0400
TZOFFSETTO:-0500
END:STANDARD
END:VTIMEZONE
BEGIN:VTIMEZONE
TZID:UTC
BEGIN:STANDARD
DTSTART:20250727T201735Z
TZOFFSETFROM:+0000
TZOFFSETTO:+0000
END:STANDARD
END:VTIMEZONE
BEGIN:VEVENT
UID:73-58
DTSTAMP:20260423T201735Z
SUMMARY:7PM: Update on Family Tree Maker by Mark Olsen
LOCATION:
ORGANIZER;CN=JGS Long Island:MAILTO:webmaster@jgsli.org
DTSTART;TZID=America/New_York:20240605T190000
DTEND;TZID=America/New_York:20240605T210000
X-ALT-DESC;FMTTYPE=TEXT/HTML:<p>Live Question and Answer session with Mark 
 Olsen from Family Tree Maker discussing recent updates and key features.</
 p>\n
CATEGORIES:General
URL;VALUE=URI:https://jgsli.org/mc-events/7pm-update-on-family-tree-maker-b
 y-mark-olsen/
METHOD:PUBLISH
END:VEVENT
END:VCALENDAR