BEGIN:VCALENDAR
VERSION:2.0
PRODID:spatie/icalendar-generator
DESCRIPTION:Events from JGSLI
X-WR-CALDESC:Events from JGSLI
REFRESH-INTERVAL;VALUE=DURATION:PT1440M
X-PUBLISHED-TTL:PT1440M
BEGIN:VTIMEZONE
TZID:America/New_York
BEGIN:STANDARD
DTSTART:20231105T020000Z
TZOFFSETFROM:-0400
TZOFFSETTO:-0500
END:STANDARD
BEGIN:DAYLIGHT
DTSTART:20240310T020000Z
TZOFFSETFROM:-0500
TZOFFSETTO:-0400
END:DAYLIGHT
END:VTIMEZONE
BEGIN:VTIMEZONE
TZID:UTC
BEGIN:STANDARD
DTSTART:20250727T221125Z
TZOFFSETFROM:+0000
TZOFFSETTO:+0000
END:STANDARD
END:VTIMEZONE
BEGIN:VEVENT
UID:69-55
DTSTAMP:20260423T221125Z
SUMMARY:2PM: What's in a Name? Finding Your Ancestor's Original Name by Mic
 hael Moritz
LOCATION:
ORGANIZER;CN=JGS Long Island:MAILTO:webmaster@jgsli.org
DTSTART;TZID=America/New_York:20240414T140000
DTEND;TZID=America/New_York:20240414T160000
X-ALT-DESC;FMTTYPE=TEXT/HTML:<p>Introduction to Jewish naming practices and
  how names changed when coming to English-speaking lands. We will touch on
  Yiddish and Ashkenazi naming practices\, Eastern European surnames\, the 
 \"Ellis Island myth\,\" and explore how to find an ancestor's \"original\"
  name through records research\, including naturalization records\, name c
 hange records\, gravestones and ship records.</p>\n
CATEGORIES:Virtual via Zoom
URL;VALUE=URI:https://jgsli.org/mc-events/2pm-whats-in-a-name-finding-your-
 ancestors-original-name-by-michael-moritz/
METHOD:PUBLISH
END:VEVENT
END:VCALENDAR