BEGIN:VCALENDAR
VERSION:2.0
PRODID:spatie/icalendar-generator
DESCRIPTION:Events from JGSLI
X-WR-CALDESC:Events from JGSLI
REFRESH-INTERVAL;VALUE=DURATION:PT1440M
X-PUBLISHED-TTL:PT1440M
BEGIN:VTIMEZONE
TZID:America/New_York
BEGIN:STANDARD
DTSTART:20231105T020000Z
TZOFFSETFROM:-0400
TZOFFSETTO:-0500
END:STANDARD
BEGIN:DAYLIGHT
DTSTART:20240310T020000Z
TZOFFSETFROM:-0500
TZOFFSETTO:-0400
END:DAYLIGHT
END:VTIMEZONE
BEGIN:VTIMEZONE
TZID:UTC
BEGIN:STANDARD
DTSTART:20250727T233005Z
TZOFFSETFROM:+0000
TZOFFSETTO:+0000
END:STANDARD
END:VTIMEZONE
BEGIN:VEVENT
UID:68-54
DTSTAMP:20260423T233005Z
SUMMARY:7PM: It's Hard to Say Goodbye by Emily Garber
LOCATION:
ORGANIZER;CN=JGS Long Island:MAILTO:webmaster@jgsli.org
DTSTART;TZID=America/New_York:20240403T190000
DTEND;TZID=America/New_York:20240403T210000
X-ALT-DESC;FMTTYPE=TEXT/HTML:<p>\"It's Hard to Say\, 'Good-by' - Challenges
  Faced by Eastern European Emigrants\" There were times when it was more d
 ifficult for many Jews to leave eastern Europe than to enter the United St
 ates. What were the requirements for emigration? How did they know what to
  do? How did people get from their homes to ports of departure? How and wh
 ere did they acquire tickets to sail? Did they have help along the way? Th
 is presentation takes emigrants\, 1880-1914\, from their homes to ports of
  departure.</p>\n
CATEGORIES:General
URL;VALUE=URI:https://jgsli.org/mc-events/7pm-its-hard-to-say-goodbye-by-em
 ily-garber/
METHOD:PUBLISH
END:VEVENT
END:VCALENDAR