BEGIN:VCALENDAR
VERSION:2.0
PRODID:spatie/icalendar-generator
DESCRIPTION:Events from JGSLI
X-WR-CALDESC:Events from JGSLI
REFRESH-INTERVAL;VALUE=DURATION:PT1440M
X-PUBLISHED-TTL:PT1440M
BEGIN:VTIMEZONE
TZID:America/New_York
BEGIN:STANDARD
DTSTART:20231105T020000Z
TZOFFSETFROM:-0400
TZOFFSETTO:-0500
END:STANDARD
BEGIN:DAYLIGHT
DTSTART:20240310T020000Z
TZOFFSETFROM:-0500
TZOFFSETTO:-0400
END:DAYLIGHT
END:VTIMEZONE
BEGIN:VTIMEZONE
TZID:UTC
BEGIN:STANDARD
DTSTART:20250727T235928Z
TZOFFSETFROM:+0000
TZOFFSETTO:+0000
END:STANDARD
END:VTIMEZONE
BEGIN:VEVENT
UID:67-53
DTSTAMP:20260423T235928Z
SUMMARY:2PM: There Are No Brick Walls in Genealogy Research by Judy Golan
LOCATION:
ORGANIZER;CN=JGS Long Island:MAILTO:webmaster@jgsli.org
DTSTART;TZID=America/New_York:20240317T140000
DTEND;TZID=America/New_York:20240317T160000
X-ALT-DESC;FMTTYPE=TEXT/HTML:<p>Well\, of course there are brick walls. But
  there are a number of search techniques and resources to check before you
  give up finding your great-grandfather’s birth record. This session rev
 iews how to approach your search to discover records of elusive ancestors.
  Vital detail clues can be found in an array of archive resources\, from p
 rimary Birth-Marriage-Death records to more esoteric documents. Examples a
 re illustrated from the JRI-Poland.org massive collection of archival reco
 rds in the Kielce-Radom-Sandomierz region of Poland\, but the methodology 
 can be mapped onto other resources in other lands.</p>\n
CATEGORIES:General
URL;VALUE=URI:https://jgsli.org/mc-events/2pm-there-are-no-brick-walls-in-g
 enealogy-research-by-judy-golan/
METHOD:PUBLISH
END:VEVENT
END:VCALENDAR