BEGIN:VCALENDAR
VERSION:2.0
PRODID:spatie/icalendar-generator
DESCRIPTION:Events from JGSLI
X-WR-CALDESC:Events from JGSLI
REFRESH-INTERVAL;VALUE=DURATION:PT1440M
X-PUBLISHED-TTL:PT1440M
BEGIN:VTIMEZONE
TZID:America/New_York
BEGIN:STANDARD
DTSTART:20231105T020000Z
TZOFFSETFROM:-0400
TZOFFSETTO:-0500
END:STANDARD
BEGIN:DAYLIGHT
DTSTART:20240310T020000Z
TZOFFSETFROM:-0500
TZOFFSETTO:-0400
END:DAYLIGHT
END:VTIMEZONE
BEGIN:VTIMEZONE
TZID:UTC
BEGIN:STANDARD
DTSTART:20250727T234316Z
TZOFFSETFROM:+0000
TZOFFSETTO:+0000
END:STANDARD
END:VTIMEZONE
BEGIN:VEVENT
UID:63-49
DTSTAMP:20260423T234316Z
SUMMARY:2PM: The Meaning Behind Common Jewish Names by Daniel Horowitz
LOCATION:
ORGANIZER;CN=JGS Long Island:MAILTO:webmaster@jgsli.org
DTSTART;TZID=America/New_York:20240121T140000
DTEND;TZID=America/New_York:20240121T160000
X-ALT-DESC;FMTTYPE=TEXT/HTML:<p>Where do Jewish surnames come from? The his
 tory of Jewish surnames is complex\, owing in part to the fact that Jews h
 ave lived in a very wide range of geographical locations throughout histor
 y. In this lecture\, Daniel Horowitz will explore the origins and meanings
  of some of the most common last names found across different Jewish commu
 nities from around the globe\, and discuss how these names became adopted 
 across the Jewish world. He will also teach you some tips and tricks for r
 esearching ancestors who bore these names.</p>\n
CATEGORIES:General
URL;VALUE=URI:https://jgsli.org/mc-events/2pm-the-meaning-behind-common-jew
 ish-names-by-daniel-horowitz/
METHOD:PUBLISH
END:VEVENT
END:VCALENDAR