BEGIN:VCALENDAR
VERSION:2.0
PRODID:spatie/icalendar-generator
DESCRIPTION:Events from JGSLI
X-WR-CALDESC:Events from JGSLI
REFRESH-INTERVAL;VALUE=DURATION:PT1440M
X-PUBLISHED-TTL:PT1440M
BEGIN:VTIMEZONE
TZID:America/New_York
BEGIN:DAYLIGHT
DTSTART:20230312T020000Z
TZOFFSETFROM:-0500
TZOFFSETTO:-0400
END:DAYLIGHT
BEGIN:STANDARD
DTSTART:20231105T020000Z
TZOFFSETFROM:-0400
TZOFFSETTO:-0500
END:STANDARD
BEGIN:DAYLIGHT
DTSTART:20240310T020000Z
TZOFFSETFROM:-0500
TZOFFSETTO:-0400
END:DAYLIGHT
END:VTIMEZONE
BEGIN:VTIMEZONE
TZID:UTC
BEGIN:STANDARD
DTSTART:20250727T234353Z
TZOFFSETFROM:+0000
TZOFFSETTO:+0000
END:STANDARD
END:VTIMEZONE
BEGIN:VEVENT
UID:60-46
DTSTAMP:20260423T234353Z
SUMMARY:7PM: What Will Happen to My Genealogical Research... After I Am Gon
 e? by AJ Turner
LOCATION:
ORGANIZER;CN=JGS Long Island:MAILTO:webmaster@jgsli.org
DTSTART;TZID=America/New_York:20231206T190000
DTEND;TZID=America/New_York:20231206T200000
X-ALT-DESC;FMTTYPE=TEXT/HTML:<p>Looking for a way to ensure that your years
  of hard work and research into your family's history won't be lost after 
 you're gone? In this talk\, Al Turner will review a series of tasks he has
  undertaken to lessen his worries about losing his genealogical legacy.  
 During this presentation\, Al will cover the essential steps that genealog
 ists can take now to protect their research and ensure it lives on after t
 hey're gone. From documenting an inventory of genealogical assets to inclu
 ding them in current estate plans and finding a successor or administrator
  to carry out your wishes\, Al will leave no stone unturned. Plus\, he'll 
 discuss donating your research to an archive or library so that future gen
 erations can benefit from all your hard work. Al's goal with this presenta
 tion is to help you safeguard your genealogical research now and for years
 .</p>\n
CATEGORIES:General
URL;VALUE=URI:https://jgsli.org/mc-events/7pm-what-will-happen-to-my-geneal
 ogical-research-after-i-am-gone-by-aj-turner/
METHOD:PUBLISH
END:VEVENT
END:VCALENDAR