BEGIN:VCALENDAR
VERSION:2.0
PRODID:spatie/icalendar-generator
DESCRIPTION:Events from JGSLI
X-WR-CALDESC:Events from JGSLI
REFRESH-INTERVAL;VALUE=DURATION:PT1440M
X-PUBLISHED-TTL:PT1440M
BEGIN:VTIMEZONE
TZID:America/New_York
BEGIN:STANDARD
DTSTART:20211107T020000Z
TZOFFSETFROM:-0400
TZOFFSETTO:-0500
END:STANDARD
BEGIN:DAYLIGHT
DTSTART:20220313T020000Z
TZOFFSETFROM:-0500
TZOFFSETTO:-0400
END:DAYLIGHT
END:VTIMEZONE
BEGIN:VTIMEZONE
TZID:UTC
BEGIN:STANDARD
DTSTART:20250728T142902Z
TZOFFSETFROM:+0000
TZOFFSETTO:+0000
END:STANDARD
END:VTIMEZONE
BEGIN:VEVENT
UID:6-4
DTSTAMP:20260424T142902Z
SUMMARY:2 PM - Help! I got my Autosomal DNA results and I'm Confused by Gil
  Bardige
LOCATION:
ORGANIZER;CN=JGS Long Island:MAILTO:webmaster@jgsli.org
DTSTART;TZID=America/New_York:20220227T140000
DTEND;TZID=America/New_York:20220227T150000
X-ALT-DESC;FMTTYPE=TEXT/HTML:<p>Virtual Only - Did you get your autosomal D
 NA results? Do you\, have tens thousands of matches that the testing compa
 nies tell you are close relatives\, only to find that they don’t share a
  surname or town in common? Confused? Frustrated? You are not alone. So\, 
 take a deep breath and join us in understanding your results of ethnicity 
 and matches\; how to prioritize them and reduce the thousands of matches t
 o numbers you can research and maybe find keys to expanding your genealogy
  family tree. This webinar is for beginners and others who are just stuck 
 or don’t know what to do next. Maybe you need a restart? Gil will share 
 the processes and techniques that he uses to prioritize matches to get org
 anized and feel like you can accomplish something and know what to do next
 . In the end\, you will be able to say\, “Now I understand\, I get it\, 
 I know what to do\"</p>\n
CATEGORIES:General
URL;VALUE=URI:https://jgsli.org/mc-events/2-pm-help-i-got-my-autosomal-dna-
 results-and-im-confused-by-gil-bardige/
METHOD:PUBLISH
END:VEVENT
END:VCALENDAR