BEGIN:VCALENDAR
VERSION:2.0
PRODID:spatie/icalendar-generator
DESCRIPTION:Events from JGSLI
X-WR-CALDESC:Events from JGSLI
REFRESH-INTERVAL;VALUE=DURATION:PT1440M
X-PUBLISHED-TTL:PT1440M
BEGIN:VTIMEZONE
TZID:America/New_York
BEGIN:DAYLIGHT
DTSTART:20230312T020000Z
TZOFFSETFROM:-0500
TZOFFSETTO:-0400
END:DAYLIGHT
BEGIN:STANDARD
DTSTART:20231105T020000Z
TZOFFSETFROM:-0400
TZOFFSETTO:-0500
END:STANDARD
BEGIN:DAYLIGHT
DTSTART:20240310T020000Z
TZOFFSETFROM:-0500
TZOFFSETTO:-0400
END:DAYLIGHT
END:VTIMEZONE
BEGIN:VTIMEZONE
TZID:UTC
BEGIN:STANDARD
DTSTART:20250727T234944Z
TZOFFSETFROM:+0000
TZOFFSETTO:+0000
END:STANDARD
END:VTIMEZONE
BEGIN:VEVENT
UID:59-45
DTSTAMP:20260423T234944Z
SUMMARY:2PM: Kibbitz &amp;amp\; Nosh: When We All Met at Dubrow's Cafeteria by 
 Marcia Bricker Halperin
LOCATION:
ORGANIZER;CN=JGS Long Island:MAILTO:webmaster@jgsli.org
DTSTART;TZID=America/New_York:20231119T140000
DTEND;TZID=America/New_York:20231119T150000
X-ALT-DESC;FMTTYPE=TEXT/HTML:Marcia Bricker Halperin\, a lifelong Brooklyni
 te\, has been photographing the character and landscape of New York City s
 ince the 1970s. She received a Master of Fine Arts from Brooklyn College a
 nd studied with Lisette Model at the New School. In the late 1970s\, she w
 as active in the Photographers Forum\, an organization that was a&amp;hellip\;
CATEGORIES:General
URL;VALUE=URI:https://jgsli.org/mc-events/2pm-kibbitz-nosh-when-we-all-met-
 at-dubrows-cafeteria-by-marcia-bricker-halperin/
METHOD:PUBLISH
END:VEVENT
END:VCALENDAR